Object = IsisCube
  Object = Core
    StartByte = 208012
    Format = BandSequential
    Group = Dimensions
      Samples = 17280
      Lines = 8640
      Bands = 3
    End_Group
    Group = Pixels
      Type = UnsignedByte
      ByteOrder = Lsb
      Base = 0.0
      Multiplier = 1.0
    End_Group
    ^Core = Vesta_Dawn_HAMO_ClrShade_DLR_Global_48ppd.tif
  End_Object
  Group = Archive
    DataSetId = Vesta_Dawn_HAMO_ClrShade_DLR_Global_48ppd
    ProducerInstitutionName = "German Aerospace Center (DLR)"
    ProducerId = DLR
    ProducerFullName = "German Aerospace Center (DLR), Institute of Planetary Research"
    ProductId = 20131210
    ProductVersionId = 1
    InstrumentHostName = DAWN
    InstrumentName = "Framing Camera"
    InstrumentId = FC
    TargetName = VESTA
    MissionPhaseName = "High Altitude Mapping Orbit"
  End_Group
  Group = Mapping
    ProjectionName = SimpleCylindrical
    CenterLongitude = 0.0
    TargetName = Vesta
    EquatorialRadius = 255000.0
    PolarRadius = 255000.0
    LatitudeType = Planetocentric
    LongitudeDirection = PositiveEast
    LongitudeDomain = 180
    MinimumLatitude = -90.0
    MaximumLatitude = 90.0
    MinimumLongitude = -180.0
    MaximumLongitude = 180.0
    UpperLeftCornerX = -801106.126664999989
    UpperLeftCornerY = 400553.063332999998
    PixelResolution = 92.7206170000000043
    Scale = 48.0
    CenterLatitude = 0.0
  End_Group
End_Object
Object = Label
  Bytes = 1928
End_Object
Object = History
  Name = IsisCube
  StartByte = 1
  Bytes = 1027
  ^History = Vesta_Dawn_HAMO_ClrShade_DLR_Global_48ppd.History.IsisCube
End_Object
End
