PDS_VERSION_ID = PDS3
DD_VERSION_ID = PDSCAT1R100
LABEL_REVISION_NOTE = "2017-05-01, David P. Mayer (USGS), initial PDS3 label pointing to GeoTIFF;"
RECORD_TYPE = FIXED_LENGTH
DATA_SET_ID = Venus_Magellan_StereoLook_mosaic
PRODUCER_ID = ASTROGEOLOGY
PRODUCER_FULL_NAME = ASTROGEOLOGY
PRODUCER_INSTITUTION_NAME = "ASTROGEOLOGY SCIENCE CENTER"
PRODUCT_ID = "FMAP StereoLook"
INSTRUMENT_HOST_NAME = MAGELLAN
INSTRUMENT_NAME = "SYNTHETIC APERTURE RADAR"
INSTRUMENT_ID = SAR
RECORD_BYTES = 506928
TARGET_NAME = VENUS
^IMAGE = ("Venus_Magellan_StereoLook_mosaic_global_75m.tif", 2773706 )
OBJECT = IMAGE
  LINES = 173307
  LINE_SAMPLES = 506928
  SAMPLE_BITS = 8
  SAMPLE_TYPE = LSB_UNSIGNED_INTEGER
  BANDS = 1
  BAND_STORAGE_TYPE = BAND_SEQUENTIAL
END_OBJECT = IMAGE
OBJECT = IMAGE_MAP_PROJECTION
  MAP_PROJECTION_TYPE = SIMPLE_CYLINDRICAL
  A_AXIS_RADIUS = 6051.0
  B_AXIS_RADIUS = 6051.0
  C_AXIS_RADIUS = 6051.0
  FIRST_STANDARD_PARALLEL = N/A
  SECOND_STANDARD_PARALLEL = N/A
  POSITIVE_LONGITUDE_DIRECTION = EAST
  CENTER_LATITUDE = 0.0
  CENTER_LONGITUDE = 0.0
  REFERENCE_LATITUDE = N/A
  REFERENCE_LONGITUDE = N/A
  LINE_FIRST_PIXEL = 1
  LINE_LAST_PIXEL = 173307
  SAMPLE_FIRST_PIXEL = 1
  SAMPLE_LAST_PIXEL = 506928
  MAP_PROJECTION_ROTATION = 0.0
  MAP_RESOLUTION = 1408.1316
  MAP_SCALE = 75.0
  MAXIMUM_LATITUDE = 77.065632
  MINIMUM_LATITUDE = -46.010219
  EASTERNMOST_LONGITUDE = 180
  WESTERNMOST_LONGITUDE = -180
  LINE_PROJECTION_OFFSET = 108518.0547
  SAMPLE_PROJECTION_OFFSET = 253463.17915600003
  COORDINATE_SYSTEM_TYPE = "BODY-FIXED ROTATING"
  COORDINATE_SYSTEM_NAME = PLANETOCENTRIC
  PROJECTION_LATITUDE_TYPE = PLANETOCENTRIC
END_OBJECT = IMAGE_MAP_PROJECTION
END
