Object = IsisCube
  Object = Core
    StartByte = 2773706
    Format = BandSequential
    Group = Dimensions
      Samples = 506928
      Lines = 173307
      Bands = 1
    End_Group
    Group = Pixels
      Type = UnsignedByte
      ByteOrder = Lsb
      Base = 0.0
      Multiplier = 1.0
    End_Group
    ^Core = Venus_Magellan_StereoLook_mosaic_global_75m.tif
  End_Object
  Group = Archive
    DataSetId = Venus_Magellan_StereoLook_mosaic
    ProducerInstitutionName = "Astrogeology Science Center"
    ProducerId = Astrogeology
    ProducerFullName = Astrogeology
    ProductId = "FMAP StereoLook"
    ProductVersionId = 1.0
    InstrumentHostName = Magellan
    InstrumentName = "synthetic aperture radar"
    InstrumentId = SAR
    TargetName = Venus
    MissionPhaseName = "NOMINAL MISSION"
  End_Group
  Group = Mapping
    ProjectionName = SimpleCylindrical
    CenterLongitude = 0.0
    TargetName = Venus
    EquatorialRadius = 6051000.0
    PolarRadius = 6051000.0
    LatitudeType = Planetocentric
    LongitudeDirection = PositiveEast
    LongitudeDomain = 180
    MinimumLatitude = -46.0102189999999993
    MaximumLatitude = 77.0656319999999937
    MinimumLongitude = -180
    MaximumLongitude = 180
    UpperLeftCornerX = -19009775.9367000014
    UpperLeftCornerY = 8138891.60250000004
    PixelResolution = 75.0
    Scale = 1408.13159999999993
    CenterLatitude = 0.0
  End_Group
End_Object
Object = Label
  Bytes = 1892
End_Object
Object = History
  Name = IsisCube
  StartByte = 1
  Bytes = 927
  ^History = Venus_Magellan_StereoLook_mosaic_global_75m.History.IsisCube
End_Object
End
