PDS_VERSION_ID = PDS3
DD_VERSION_ID = PDSCAT1R100
LABEL_REVISION_NOTE = "2017-05-01, David P. Mayer (USGS), initial PDS3 label pointing to GeoTIFF;"
RECORD_TYPE = FIXED_LENGTH
DATA_SET_ID = Venus_Magellan_RightLook_mosaic_global_75m
PRODUCER_ID = ASTROGEOLOGY
PRODUCER_FULL_NAME = USGS
PRODUCER_INSTITUTION_NAME = "ASTROGEOLOGY SCIENCE CENTER"
PRODUCT_ID = n/a
INSTRUMENT_HOST_NAME = MAGELLAN
INSTRUMENT_NAME = SAR
INSTRUMENT_ID = N/A
RECORD_BYTES = 506928
TARGET_NAME = VENUS
^IMAGE = ("Venus_Magellan_RightLook_mosaic_global_75m.tif", 3695972 )
OBJECT = IMAGE
  LINES = 230948
  LINE_SAMPLES = 506928
  SAMPLE_BITS = 8
  SAMPLE_TYPE = LSB_UNSIGNED_INTEGER
  BANDS = 1
  BAND_STORAGE_TYPE = BAND_SEQUENTIAL
END_OBJECT = IMAGE
OBJECT = IMAGE_MAP_PROJECTION
  MAP_PROJECTION_TYPE = EQUIRECTANGULAR
  A_AXIS_RADIUS = 6051.0
  B_AXIS_RADIUS = 6051.0
  C_AXIS_RADIUS = 6051.0
  FIRST_STANDARD_PARALLEL = N/A
  SECOND_STANDARD_PARALLEL = N/A
  POSITIVE_LONGITUDE_DIRECTION = EAST
  CENTER_LATITUDE = 0.0
  CENTER_LONGITUDE = 0.0
  REFERENCE_LATITUDE = N/A
  REFERENCE_LONGITUDE = N/A
  LINE_FIRST_PIXEL = 1
  LINE_LAST_PIXEL = 230948
  SAMPLE_FIRST_PIXEL = 1
  SAMPLE_LAST_PIXEL = 506928
  MAP_PROJECTION_ROTATION = 0.0
  MAP_RESOLUTION = 1408.1316
  MAP_SCALE = 75.0
  MAXIMUM_LATITUDE = 83.999643
  MINIMUM_LATITUDE = -80.010591
  EASTERNMOST_LONGITUDE = -179.999556
  WESTERNMOST_LONGITUDE = -179.999989
  LINE_PROJECTION_OFFSET = 118282.0547
  SAMPLE_PROJECTION_OFFSET = 253463.17915600003
  COORDINATE_SYSTEM_TYPE = "BODY-FIXED ROTATING"
  COORDINATE_SYSTEM_NAME = PLANETOCENTRIC
  PROJECTION_LATITUDE_TYPE = PLANETOCENTRIC
END_OBJECT = IMAGE_MAP_PROJECTION
END
