PDS_VERSION_ID = PDS3
DD_VERSION_ID = PDSCAT1R100
LABEL_REVISION_NOTE = "2017-05-01, David P. Mayer (USGS), initial PDS3 label pointing to GeoTIFF;"
RECORD_TYPE = FIXED_LENGTH
DATA_SET_ID = Magellan_C3-Midr_mosaic_2025m
PRODUCER_ID = ASTROGEOLOGY
PRODUCER_FULL_NAME = USGS
PRODUCER_INSTITUTION_NAME = "UNITED STATES GEOLOGICAL SURVEY"
INSTRUMENT_NAME = "RADAR SYSTEM"
INSTRUMENT_ID = SAR
RECORD_BYTES = 18775
TARGET_NAME = VENUS
^IMAGE = ("Venus_Magellan_C3-MDIR_Global_Mosaic_2025m.tif", 75754 )
OBJECT = IMAGE
  LINES = 9388
  LINE_SAMPLES = 18775
  SAMPLE_BITS = 8
  SAMPLE_TYPE = LSB_UNSIGNED_INTEGER
  BANDS = 1
  BAND_STORAGE_TYPE = BAND_SEQUENTIAL
END_OBJECT = IMAGE
OBJECT = IMAGE_MAP_PROJECTION
  MAP_PROJECTION_TYPE = EQUIRECTANGULAR
  A_AXIS_RADIUS = 6051.0
  B_AXIS_RADIUS = 6051.0
  C_AXIS_RADIUS = 6051.0
  FIRST_STANDARD_PARALLEL = N/A
  SECOND_STANDARD_PARALLEL = N/A
  POSITIVE_LONGITUDE_DIRECTION = EAST
  CENTER_LATITUDE = 0.0
  CENTER_LONGITUDE = 0.0
  REFERENCE_LATITUDE = N/A
  REFERENCE_LONGITUDE = N/A
  LINE_FIRST_PIXEL = 1
  LINE_LAST_PIXEL = 9388
  SAMPLE_FIRST_PIXEL = 1
  SAMPLE_LAST_PIXEL = 18775
  MAP_PROJECTION_ROTATION = 0.0
  MAP_RESOLUTION = 52.153
  MAP_SCALE = 2025.0
  MAXIMUM_LATITUDE = 90.0
  MINIMUM_LATITUDE = -90.0
  EASTERNMOST_LONGITUDE = 180.0
  WESTERNMOST_LONGITUDE = -180.0
  LINE_PROJECTION_OFFSET = 4693.2721350301235
  SAMPLE_PROJECTION_OFFSET = 9387.044270060247
  COORDINATE_SYSTEM_TYPE = "BODY-FIXED ROTATING"
  COORDINATE_SYSTEM_NAME = PLANETOCENTRIC
  PROJECTION_LATITUDE_TYPE = PLANETOCENTRIC
END_OBJECT = IMAGE_MAP_PROJECTION
END
