PDS_VERSION_ID = PDS3
DD_VERSION_ID = PDSCAT1R100
LABEL_REVISION_NOTE = "2017-05-01, David P. Mayer (USGS), initial PDS3 label pointing to GeoTIFF;"
RECORD_TYPE = FIXED_LENGTH
DATA_SET_ID = MGN-V-GXDR-5-DIM-V1.0
PRODUCER_INSTITUTION_NAME = "UNITED STATES GEOLOGICAL SURVEY"
PRODUCT_ID = EA00N000
INSTRUMENT_NAME = "RADAR SYSTEM"
INSTRUMENT_ID = RAD
RECORD_BYTES = 16386
TARGET_NAME = VENUS
^IMAGE = ("Venus_Magellan_MicrowaveEmissivity_Global_4641m.tif", 33624 )
OBJECT = IMAGE
  LINES = 4097
  LINE_SAMPLES = 8193
  SAMPLE_BITS = 16
  SAMPLE_TYPE = LSB_INTEGER
  BANDS = 1
  BAND_STORAGE_TYPE = BAND_SEQUENTIAL
END_OBJECT = IMAGE
OBJECT = IMAGE_MAP_PROJECTION
  MAP_PROJECTION_TYPE = SIMPLE_CYLINDRICAL
  A_AXIS_RADIUS = 6051.0
  B_AXIS_RADIUS = 6051.0
  C_AXIS_RADIUS = 6051.0
  FIRST_STANDARD_PARALLEL = N/A
  SECOND_STANDARD_PARALLEL = N/A
  POSITIVE_LONGITUDE_DIRECTION = EAST
  CENTER_LATITUDE = N/A
  CENTER_LONGITUDE = 0.0
  REFERENCE_LATITUDE = N/A
  REFERENCE_LONGITUDE = N/A
  LINE_FIRST_PIXEL = 1
  LINE_LAST_PIXEL = 4097
  SAMPLE_FIRST_PIXEL = 1
  SAMPLE_LAST_PIXEL = 8193
  MAP_PROJECTION_ROTATION = 0.0
  MAP_RESOLUTION = 22.755556
  MAP_SCALE = 4641.0588
  MAXIMUM_LATITUDE = 90.0
  MINIMUM_LATITUDE = -90.0
  EASTERNMOST_LONGITUDE = 180.0
  WESTERNMOST_LONGITUDE = -180.0
  LINE_PROJECTION_OFFSET = 2048.5
  SAMPLE_PROJECTION_OFFSET = 4096.5
  COORDINATE_SYSTEM_TYPE = "BODY-FIXED ROTATING"
  COORDINATE_SYSTEM_NAME = PLANETOCENTRIC
  PROJECTION_LATITUDE_TYPE = PLANETOCENTRIC
END_OBJECT = IMAGE_MAP_PROJECTION
END
