PDS_VERSION_ID = PDS3
DD_VERSION_ID = PDSCAT1R100
LABEL_REVISION_NOTE = "2017-05-01, David P. Mayer (USGS), initial PDS3 label pointing to GeoTIFF;"
RECORD_TYPE = FIXED_LENGTH
DATA_SET_ID = C3-MIDR_colorized_simp0_4641m
PRODUCER_ID = ASTROGEOLOGY
PRODUCER_FULL_NAME = "UNITED STATES GEOLOGICAL SURVEY"
PRODUCER_INSTITUTION_NAME = "ASTROGEOLOGY SCIENCE CENTER"
PRODUCT_ID = C3-MIDR
INSTRUMENT_NAME = "RADAR SYSTEM"
INSTRUMENT_ID = SAR
RECORD_BYTES = 8192
TARGET_NAME = VENUS
^IMAGE = ("Venus_Magellan_C3-MDIR_Colorized_Global_Mosaic_4641m.tif", 98966 )
OBJECT = IMAGE
  LINES = 4096
  LINE_SAMPLES = 8192
  SAMPLE_BITS = 8
  SAMPLE_TYPE = LSB_UNSIGNED_INTEGER
  BANDS = 3
  BAND_STORAGE_TYPE = BAND_SEQUENTIAL
END_OBJECT = IMAGE
OBJECT = IMAGE_MAP_PROJECTION
  MAP_PROJECTION_TYPE = EQUIRECTANGULAR
  A_AXIS_RADIUS = 6051.0
  B_AXIS_RADIUS = 6051.0
  C_AXIS_RADIUS = 6051.0
  FIRST_STANDARD_PARALLEL = N/A
  SECOND_STANDARD_PARALLEL = N/A
  POSITIVE_LONGITUDE_DIRECTION = EAST
  CENTER_LATITUDE = 0.0
  CENTER_LONGITUDE = 0.0
  REFERENCE_LATITUDE = N/A
  REFERENCE_LONGITUDE = N/A
  LINE_FIRST_PIXEL = 1
  LINE_LAST_PIXEL = 4096
  SAMPLE_FIRST_PIXEL = 1
  SAMPLE_LAST_PIXEL = 8192
  MAP_PROJECTION_ROTATION = 0.0
  MAP_RESOLUTION = 22.7558
  MAP_SCALE = 4641.0
  MAXIMUM_LATITUDE = 90.0
  MINIMUM_LATITUDE = -90
  EASTERNMOST_LONGITUDE = 180.0
  WESTERNMOST_LONGITUDE = -180.0
  LINE_PROJECTION_OFFSET = 2047.5259800551603
  SAMPLE_PROJECTION_OFFSET = 4095.5519601103206
  COORDINATE_SYSTEM_TYPE = "BODY-FIXED ROTATING"
  COORDINATE_SYSTEM_NAME = PLANETOCENTRIC
  PROJECTION_LATITUDE_TYPE = PLANETOCENTRIC
END_OBJECT = IMAGE_MAP_PROJECTION
END
