Object = IsisCube
  Object = Core
    StartByte = 98966
    Format = BandSequential
    Group = Dimensions
      Samples = 8192
      Lines = 4096
      Bands = 3
    End_Group
    Group = Pixels
      Type = UnsignedByte
      ByteOrder = Lsb
      Base = 0.0
      Multiplier = 1.0
    End_Group
    ^Core = Venus_Magellan_C3-MDIR_Colorized_Global_Mosaic_4641m.tif
  End_Object
  Group = Archive
    DataSetId = C3-MIDR_colorized_simp0_4641m
    ProducerInstitutionName = "Astrogeology Science Center"
    ProducerId = Astrogeology
    ProducerFullName = "UNITED STATES GEOLOGICAL SURVEY"
    ProductId = C3-MIDR
    InstrumentName = "RADAR SYSTEM"
    InstrumentId = SAR
    TargetName = Venus
  End_Group
  Group = Mapping
    ProjectionName = Equirectangular
    CenterLongitude = 0.0
    TargetName = Venus
    EquatorialRadius = 6051000.0
    PolarRadius = 6051000.0
    LatitudeType = Planetocentric
    LongitudeDirection = PositiveEast
    LongitudeDomain = 180
    MinimumLatitude = -90
    MaximumLatitude = 90.0
    MinimumLongitude = -180.0
    MaximumLongitude = 180.0
    UpperLeftCornerX = -19009777.1468719989
    UpperLeftCornerY = 9504888.57343599945
    PixelResolution = 4641.0
    Scale = 22.7558000000000007
    CenterLatitude = 0.0
  End_Group
End_Object
Object = Label
  Bytes = 1767
End_Object
Object = History
  Name = IsisCube
  StartByte = 1
  Bytes = 954
  ^History = Venus_Magellan_C3-MDIR_Colorized_Global_Mosaic_4641m.History.Isi- sCube
End_Object
End
