PDS_VERSION_ID = PDS3
DD_VERSION_ID = PDSCAT1R100
LABEL_REVISION_NOTE = "2017-05-01, David P. Mayer (USGS), initial PDS3 label pointing to GeoTIFF;"
RECORD_TYPE = FIXED_LENGTH
RECORD_BYTES = 4500
TARGET_NAME = TRITON
^IMAGE = ("Triton_Voyager2_Orthographic_RGB_Mosaic_600m.tif", 84635 )
OBJECT = IMAGE
  LINES = 3500
  LINE_SAMPLES = 4500
  SAMPLE_BITS = 8
  SAMPLE_TYPE = LSB_UNSIGNED_INTEGER
  BANDS = 3
  BAND_STORAGE_TYPE = BAND_SEQUENTIAL
END_OBJECT = IMAGE
OBJECT = IMAGE_MAP_PROJECTION
  MAP_PROJECTION_TYPE = ORTHOGRAPHIC
  A_AXIS_RADIUS = 1350.0
  B_AXIS_RADIUS = 1350.0
  C_AXIS_RADIUS = 1350.0
  FIRST_STANDARD_PARALLEL = N/A
  SECOND_STANDARD_PARALLEL = N/A
  POSITIVE_LONGITUDE_DIRECTION = EAST
  CENTER_LATITUDE = 18.0
  CENTER_LONGITUDE = 15.0
  REFERENCE_LATITUDE = N/A
  REFERENCE_LONGITUDE = N/A
  LINE_FIRST_PIXEL = 1
  LINE_LAST_PIXEL = 3500
  SAMPLE_FIRST_PIXEL = 1
  SAMPLE_LAST_PIXEL = 4500
  MAP_PROJECTION_ROTATION = 0.0
  MAP_RESOLUTION = 39.269907
  MAP_SCALE = 600.0
  MAXIMUM_LATITUDE = 90.0
  MINIMUM_LATITUDE = -90.0
  EASTERNMOST_LONGITUDE = 180.0
  WESTERNMOST_LONGITUDE = -180.0
  LINE_PROJECTION_OFFSET = 1249.4999105999998
  SAMPLE_PROJECTION_OFFSET = 2249.4999106
  COORDINATE_SYSTEM_TYPE = "BODY-FIXED ROTATING"
  COORDINATE_SYSTEM_NAME = PLANETOCENTRIC
  PROJECTION_LATITUDE_TYPE = PLANETOCENTRIC
END_OBJECT = IMAGE_MAP_PROJECTION
END
