Object = IsisCube
  Object = Core
    StartByte = 84635
    Format = BandSequential
    Group = Dimensions
      Samples = 4500
      Lines = 3500
      Bands = 3
    End_Group
    Group = Pixels
      Type = UnsignedByte
      ByteOrder = Lsb
      Base = 0.0
      Multiplier = 1.0
    End_Group
    ^Core = Triton_Voyager2_Orthographic_RGB_Mosaic_600m.tif
  End_Object
  Group = Instrument
    TargetName = Triton
  End_Group
  Group = BandBin
    Center = (0.0, 0.0, 0.0)
    OriginalBand = (1, 1, 1)
  End_Group
  Group = Mapping
    ProjectionName = Orthographic
    CenterLongitude = 15.0
    TargetName = Triton
    EquatorialRadius = 1350000.0
    PolarRadius = 1350000.0
    LatitudeType = Planetocentric
    LongitudeDirection = PositiveEast
    LongitudeDomain = 180
    MinimumLatitude = -90.0
    MaximumLatitude = 90.0
    MinimumLongitude = -180.0
    MaximumLongitude = 180.0
    UpperLeftCornerX = -1349999.94635999994
    UpperLeftCornerY = 749999.946359999944
    PixelResolution = 600.0
    Scale = 39.2699070000000034
    CenterLatitude = 18.0
  End_Group
End_Object
Object = Label
  Bytes = 1687
End_Object
Object = History
  Name = IsisCube
  StartByte = 1
  Bytes = 2952
  ^History = Triton_Voyager2_Orthographic_RGB_Mosaic_600m.History.IsisCube
End_Object
Object = OriginalLabel
  Name = IsisCube
  StartByte = 1
  Bytes = 2346
  ^OriginalLabel = Triton_Voyager2_Orthographic_RGB_Mosaic_600m.OriginalLabel.- IsisCube
End_Object
End
