PDS_VERSION_ID = PDS3
DD_VERSION_ID = PDSCAT1R100
LABEL_REVISION_NOTE = "2017-05-01, David P. Mayer (USGS), initial PDS3 label pointing to GeoTIFF;"
RECORD_TYPE = FIXED_LENGTH
DATA_SET_ID = PIA18668
PRODUCER_ID = LPI
PRODUCER_FULL_NAME = LPI
PRODUCER_INSTITUTION_NAME = "LUNAR AND PLANETARY INSTITUTE"
PRODUCT_ID = PIA18668
INSTRUMENT_HOST_NAME = "VOYAGER 2"
INSTRUMENT_NAME = "IMAGING SCIENCE SUBSYSTEM"
INSTRUMENT_ID = "ISS - NARROW ANGLE"
RECORD_BYTES = 14138
TARGET_NAME = TRITON
^IMAGE = ("Triton_Voyager2_ClrMosaic_GlobalFill_600m.tif", 170322 )
OBJECT = IMAGE
  LINES = 7069
  LINE_SAMPLES = 14138
  SAMPLE_BITS = 8
  SAMPLE_TYPE = LSB_UNSIGNED_INTEGER
  BANDS = 3
  BAND_STORAGE_TYPE = BAND_SEQUENTIAL
END_OBJECT = IMAGE
OBJECT = IMAGE_MAP_PROJECTION
  MAP_PROJECTION_TYPE = EQUIRECTANGULAR
  A_AXIS_RADIUS = 1350.0
  B_AXIS_RADIUS = 1350.0
  C_AXIS_RADIUS = 1350.0
  FIRST_STANDARD_PARALLEL = N/A
  SECOND_STANDARD_PARALLEL = N/A
  POSITIVE_LONGITUDE_DIRECTION = EAST
  CENTER_LATITUDE = 0.0
  CENTER_LONGITUDE = 0.0
  REFERENCE_LATITUDE = N/A
  REFERENCE_LONGITUDE = N/A
  LINE_FIRST_PIXEL = 1
  LINE_LAST_PIXEL = 7069
  SAMPLE_FIRST_PIXEL = 1
  SAMPLE_LAST_PIXEL = 14138
  MAP_PROJECTION_ROTATION = 0.0
  MAP_RESOLUTION = 39.2699
  MAP_SCALE = 600.0
  MAXIMUM_LATITUDE = 90.0
  MINIMUM_LATITUDE = -90.0
  EASTERNMOST_LONGITUDE = 180.0
  WESTERNMOST_LONGITUDE = -180.0
  LINE_PROJECTION_OFFSET = 3533.7917352883333
  SAMPLE_PROJECTION_OFFSET = 7068.0834705766665
  COORDINATE_SYSTEM_TYPE = "BODY-FIXED ROTATING"
  COORDINATE_SYSTEM_NAME = PLANETOCENTRIC
  PROJECTION_LATITUDE_TYPE = PLANETOCENTRIC
END_OBJECT = IMAGE_MAP_PROJECTION
END
