PDS_VERSION_ID = PDS3
DD_VERSION_ID = PDSCAT1R100
LABEL_REVISION_NOTE = "2017-05-01, David P. Mayer (USGS), initial PDS3 label pointing to GeoTIFF;"
RECORD_TYPE = FIXED_LENGTH
DATA_SET_ID = Titan_ISS_P19658_Mosaic_Global_4km_clon180
PRODUCER_ID = JPL
PRODUCER_FULL_NAME = "JET PROPULSION LABORATORY, CALTECH"
PRODUCER_INSTITUTION_NAME = "JET PROPULSION LABORATORY"
PRODUCT_ID = PIA19658
INSTRUMENT_HOST_NAME = CASSINI
INSTRUMENT_NAME = "IMAGING SCIENCE SUBSYSTEM"
INSTRUMENT_ID = ISS
RECORD_BYTES = 4040
TARGET_NAME = TITAN
^IMAGE = ("Titan_ISS_P19658_Mosaic_Global_4km.tif", 8730 )
OBJECT = IMAGE
  LINES = 2020
  LINE_SAMPLES = 4040
  SAMPLE_BITS = 8
  SAMPLE_TYPE = LSB_UNSIGNED_INTEGER
  BANDS = 1
  BAND_STORAGE_TYPE = BAND_SEQUENTIAL
END_OBJECT = IMAGE
OBJECT = IMAGE_MAP_PROJECTION
  MAP_PROJECTION_TYPE = EQUIRECTANGULAR
  A_AXIS_RADIUS = 2575.0
  B_AXIS_RADIUS = 2575.0
  C_AXIS_RADIUS = 2575.0
  FIRST_STANDARD_PARALLEL = N/A
  SECOND_STANDARD_PARALLEL = N/A
  POSITIVE_LONGITUDE_DIRECTION = WEST
  CENTER_LATITUDE = 0.0
  CENTER_LONGITUDE = 180.0
  REFERENCE_LATITUDE = N/A
  REFERENCE_LONGITUDE = N/A
  LINE_FIRST_PIXEL = 1
  LINE_LAST_PIXEL = 2020
  SAMPLE_FIRST_PIXEL = 1
  SAMPLE_LAST_PIXEL = 4040
  MAP_PROJECTION_ROTATION = 0.0
  MAP_RESOLUTION = 11.2222
  MAP_SCALE = 4004.753011
  MAXIMUM_LATITUDE = 90.0
  MINIMUM_LATITUDE = -90.0
  EASTERNMOST_LONGITUDE = 0.0
  WESTERNMOST_LONGITUDE = 0.0
  LINE_PROJECTION_OFFSET = 1009.5000000966353
  SAMPLE_PROJECTION_OFFSET = -2020.5000001932706
  COORDINATE_SYSTEM_TYPE = "BODY-FIXED ROTATING"
  COORDINATE_SYSTEM_NAME = PLANETOCENTRIC
  PROJECTION_LATITUDE_TYPE = PLANETOCENTRIC
END_OBJECT = IMAGE_MAP_PROJECTION
END
