450.000000000000000
0.000000000000000
0.000000000000000
-450.000000000000000
-8089425.000000000000000
2022525.000000000000000
