PDS_VERSION_ID = PDS3
DD_VERSION_ID = PDSCAT1R100
LABEL_REVISION_NOTE = "2017-05-01, David P. Mayer (USGS), initial PDS3 label pointing to GeoTIFF;"
RECORD_TYPE = FIXED_LENGTH
RECORD_BYTES = 24888
TARGET_NAME = PLUTO
^IMAGE = ("Pluto_NewHorizons_Global_Mosaic_300m_Jul2017_8bit.tif", 100192 )
OBJECT = IMAGE
  LINES = 12444
  LINE_SAMPLES = 24888
  SAMPLE_BITS = 8
  SAMPLE_TYPE = LSB_UNSIGNED_INTEGER
  BANDS = 1
  BAND_STORAGE_TYPE = BAND_SEQUENTIAL
END_OBJECT = IMAGE
OBJECT = IMAGE_MAP_PROJECTION
  MAP_PROJECTION_TYPE = EQUIRECTANGULAR
  A_AXIS_RADIUS = 1188.3
  B_AXIS_RADIUS = 1188.3
  C_AXIS_RADIUS = 1188.3
  FIRST_STANDARD_PARALLEL = N/A
  SECOND_STANDARD_PARALLEL = N/A
  POSITIVE_LONGITUDE_DIRECTION = EAST
  CENTER_LATITUDE = 0.0
  CENTER_LONGITUDE = 180.0
  REFERENCE_LATITUDE = N/A
  REFERENCE_LONGITUDE = N/A
  LINE_FIRST_PIXEL = 1
  LINE_LAST_PIXEL = 12444
  SAMPLE_FIRST_PIXEL = 1
  SAMPLE_LAST_PIXEL = 24888
  MAP_PROJECTION_ROTATION = 0.0
  MAP_RESOLUTION = 69.132491671495
  MAP_SCALE = 300.0
  MAXIMUM_LATITUDE = 90.0
  MINIMUM_LATITUDE = -90.0
  EASTERNMOST_LONGITUDE = 360.0
  WESTERNMOST_LONGITUDE = -0.0
  LINE_PROJECTION_OFFSET = 6221.5
  SAMPLE_PROJECTION_OFFSET = 12443.5
  COORDINATE_SYSTEM_TYPE = "BODY-FIXED ROTATING"
  COORDINATE_SYSTEM_NAME = PLANETOGRAPHIC
  PROJECTION_LATITUDE_TYPE = PLANETOGRAPHIC
END_OBJECT = IMAGE_MAP_PROJECTION
END
