PDS_VERSION_ID = PDS3
DD_VERSION_ID = PDSCAT1R100
LABEL_REVISION_NOTE = "2017-05-01, David P. Mayer (USGS), initial PDS3 label pointing to GeoTIFF;"
RECORD_TYPE = FIXED_LENGTH
DATA_SET_ID = Phobos_Viking_Mosaic_40ppd_DLRcontrol
PRODUCER_ID = UNIV_W_ONTARIO
PRODUCER_FULL_NAME = "PHIL STOOKE"
PRODUCER_INSTITUTION_NAME = "UNIVERSITY OF WESTERN ONTARIO"
PRODUCT_ID = phobos_cyl_dlr_control
INSTRUMENT_HOST_NAME = "VIKING ORBITERS"
INSTRUMENT_NAME = "VIDICON CAMERAS"
INSTRUMENT_ID = VIX
RECORD_BYTES = 14400
TARGET_NAME = PHOBOS
^IMAGE = ("Phobos_Viking_Mosaic_40ppd_DLRcontrol.tif", 58244 )
OBJECT = IMAGE
  LINES = 7200
  LINE_SAMPLES = 14400
  SAMPLE_BITS = 8
  SAMPLE_TYPE = LSB_UNSIGNED_INTEGER
  BANDS = 1
  BAND_STORAGE_TYPE = BAND_SEQUENTIAL
END_OBJECT = IMAGE
OBJECT = IMAGE_MAP_PROJECTION
  MAP_PROJECTION_TYPE = SIMPLE_CYLINDRICAL
  A_AXIS_RADIUS = 11.1
  B_AXIS_RADIUS = 11.1
  C_AXIS_RADIUS = 11.1
  FIRST_STANDARD_PARALLEL = N/A
  SECOND_STANDARD_PARALLEL = N/A
  POSITIVE_LONGITUDE_DIRECTION = EAST
  CENTER_LATITUDE = 0.0
  CENTER_LONGITUDE = 0.0
  REFERENCE_LATITUDE = N/A
  REFERENCE_LONGITUDE = N/A
  LINE_FIRST_PIXEL = 1
  LINE_LAST_PIXEL = 7200
  SAMPLE_FIRST_PIXEL = 1
  SAMPLE_LAST_PIXEL = 14400
  MAP_PROJECTION_ROTATION = 0.0
  MAP_RESOLUTION = 40.0
  MAP_SCALE = 4.843289
  MAXIMUM_LATITUDE = 90.0
  MINIMUM_LATITUDE = -90.0
  EASTERNMOST_LONGITUDE = 180.0
  WESTERNMOST_LONGITUDE = -180.0
  LINE_PROJECTION_OFFSET = 3599.4997578092075
  SAMPLE_PROJECTION_OFFSET = 7199.499515824887
  COORDINATE_SYSTEM_TYPE = "BODY-FIXED ROTATING"
  COORDINATE_SYSTEM_NAME = PLANETOCENTRIC
  PROJECTION_LATITUDE_TYPE = PLANETOCENTRIC
END_OBJECT = IMAGE_MAP_PROJECTION
END
