Object = IsisCube
  Object = Core
    StartByte = 58244
    Format = BandSequential
    Group = Dimensions
      Samples = 14400
      Lines = 7200
      Bands = 1
    End_Group
    Group = Pixels
      Type = UnsignedByte
      ByteOrder = Lsb
      Base = 0.0
      Multiplier = 1.0
    End_Group
    ^Core = Phobos_Viking_Mosaic_40ppd_DLRcontrol.tif
  End_Object
  Group = Archive
    DataSetId = Phobos_Viking_Mosaic_40ppd_DLRcontrol
    ProducerInstitutionName = "University of Western Ontario"
    ProducerId = Univ_W_Ontario
    ProducerFullName = "Phil Stooke"
    ProductId = phobos_cyl_dlr_control
    ProductVersionId = 1.0
    InstrumentHostName = "Viking Orbiters"
    InstrumentName = "vidicon cameras"
    InstrumentId = VIX
    TargetName = PHOBOS
    MissionPhaseName = "NOMINAL MISSION"
  End_Group
  Group = Mapping
    ProjectionName = SimpleCylindrical
    CenterLongitude = 0.0
    TargetName = Phobos
    EquatorialRadius = 11100.0
    PolarRadius = 11100.0
    LatitudeType = Planetocentric
    LongitudeDirection = PositiveEast
    LongitudeDomain = 180
    MinimumLatitude = -90.0
    MaximumLatitude = 90.0
    MinimumLongitude = -180.0
    MaximumLongitude = 180.0
    UpperLeftCornerX = -34871.6784550000011
    UpperLeftCornerY = 17435.8392270000004
    PixelResolution = 4.8432890000000004
    Scale = 40.0
    CenterLatitude = 0.0
  End_Group
End_Object
Object = Label
  Bytes = 1861
End_Object
Object = History
  Name = IsisCube
  StartByte = 1
  Bytes = 909
  ^History = Phobos_Viking_Mosaic_40ppd_DLRcontrol.History.IsisCube
End_Object
End
