Object = IsisCube
  Object = Core
    StartByte = 23684
    Format = BandSequential
    Group = Dimensions
      Samples = 5760
      Lines = 2880
      Bands = 1
    End_Group
    Group = Pixels
      Type = UnsignedByte
      ByteOrder = Lsb
      Base = 0.0
      Multiplier = 1.0
    End_Group
    ^Core = Phobos_ME_SRC_Mosaic_Global_16ppd.tif
  End_Object
  Group = Archive
    DataSetId = Phobos_ME_SRC_Mosaic_Global_16ppd
    ProducerInstitutionName = "German Aerospace Center (DLR), Institute of Planetary Research"
    ProducerId = ME_HRSC_TEAM
    ProducerFullName = "Konrad Willner"
    ProductId = src_map_phobos
    ProductVersionId = 0.100000000000000006
    InstrumentHostName = "Mars Express"
    InstrumentName = "High Resolution Stereo Camera"
    InstrumentId = HRSC
    TargetName = PHOBOS
    MissionPhaseName = "NOMINAL MISSION"
  End_Group
  Group = Mapping
    ProjectionName = SimpleCylindrical
    CenterLongitude = 0.0
    TargetName = Phobos
    EquatorialRadius = 11100.0
    PolarRadius = 11100.0
    LatitudeType = Planetocentric
    LongitudeDirection = PositiveEast
    LongitudeDomain = 180
    MinimumLatitude = -90.0
    MaximumLatitude = 90.0
    MinimumLongitude = -180.0
    MaximumLongitude = 180.0
    UpperLeftCornerX = -34871.6784550000011
    UpperLeftCornerY = 17435.8392270000004
    PixelResolution = 12.1082219999999996
    Scale = 16.0
    CenterLatitude = 0.0
  End_Group
End_Object
Object = Label
  Bytes = 1935
End_Object
Object = History
  Name = IsisCube
  StartByte = 1
  Bytes = 897
  ^History = Phobos_ME_SRC_Mosaic_Global_16ppd.History.IsisCube
End_Object
End
