Object = IsisCube
  Object = Core
    StartByte = 900
    Format = BandSequential
    Group = Dimensions
      Samples = 699
      Lines = 349
      Bands = 1
    End_Group
    Group = Pixels
      Type = UnsignedByte
      ByteOrder = Lsb
      Base = 0.0
      Multiplier = 1.0
    End_Group
    ^Core = Phobos_ME_HRSC_Shade_Global_2ppd.tif
  End_Object
  Group = Archive
    DataSetId = Phobos_ME_HRSC_Shade_Global_2ppd
    ProducerInstitutionName = "German Aerospace Center (DLR), Institute of Planetary Research"
    ProducerId = ME_HRSC_TEAM
    ProducerFullName = "Konrad Willner"
    ProductId = shade_phobos
    ProductVersionId = 0.100000000000000006
    InstrumentHostName = "Mars Express"
    InstrumentName = "High Resolution Stereo Camera"
    InstrumentId = HRSC
    TargetName = PHOBOS
    MissionPhaseName = "NOMINAL MISSION"
  End_Group
  Group = Mapping
    ProjectionName = SimpleCylindrical
    CenterLongitude = 0.0
    TargetName = Phobos
    EquatorialRadius = 11100.0
    PolarRadius = 11100.0
    LatitudeType = Planetocentric
    LongitudeDirection = PositiveEast
    LongitudeDomain = 180
    MinimumLatitude = -90.0
    MaximumLatitude = 90.0
    MinimumLongitude = -180.0
    MaximumLongitude = 180.0
    UpperLeftCornerX = -34899.9999919999973
    UpperLeftCornerY = 17435.8392270000004
    PixelResolution = 100.000000999999997
    Scale = 1.93730000000000002
    CenterLatitude = 0.0
  End_Group
End_Object
Object = Label
  Bytes = 1941
End_Object
Object = History
  Name = IsisCube
  StartByte = 1
  Bytes = 894
  ^History = Phobos_ME_HRSC_Shade_Global_2ppd.History.IsisCube
End_Object
End
