PDS_VERSION_ID = PDS3
DD_VERSION_ID = PDSCAT1R100
LABEL_REVISION_NOTE = "2017-05-01, David P. Mayer (USGS), initial PDS3 label pointing to GeoTIFF;"
RECORD_TYPE = FIXED_LENGTH
DATA_SET_ID = Phobos_ME_HRSC_DEM_Global_2ppd
PRODUCER_ID = ME_HRSC_TEAM
PRODUCER_FULL_NAME = "KONRAD WILLNER"
PRODUCER_INSTITUTION_NAME = "GERMAN AEROSPACE CENTER (DLR), INSTITUTE OF PLANETARY RESEARCH"
PRODUCT_ID = dtm_map_phobos
INSTRUMENT_HOST_NAME = "MARS EXPRESS"
INSTRUMENT_NAME = "HIGH RESOLUTION STEREO CAMERA"
INSTRUMENT_ID = HRSC
RECORD_BYTES = 1398
TARGET_NAME = PHOBOS
^IMAGE = ("Phobos_ME_HRSC_DEM_Global_2ppd.tif", 1212 )
OBJECT = IMAGE
  LINES = 349
  LINE_SAMPLES = 699
  SAMPLE_BITS = 16
  SAMPLE_TYPE = LSB_INTEGER
  BANDS = 1
  BAND_STORAGE_TYPE = BAND_SEQUENTIAL
END_OBJECT = IMAGE
OBJECT = IMAGE_MAP_PROJECTION
  MAP_PROJECTION_TYPE = SIMPLE_CYLINDRICAL
  A_AXIS_RADIUS = 11.1
  B_AXIS_RADIUS = 11.1
  C_AXIS_RADIUS = 11.1
  FIRST_STANDARD_PARALLEL = N/A
  SECOND_STANDARD_PARALLEL = N/A
  POSITIVE_LONGITUDE_DIRECTION = EAST
  CENTER_LATITUDE = 0.0
  CENTER_LONGITUDE = 0.0
  REFERENCE_LATITUDE = N/A
  REFERENCE_LONGITUDE = N/A
  LINE_FIRST_PIXEL = 1
  LINE_LAST_PIXEL = 349
  SAMPLE_FIRST_PIXEL = 1
  SAMPLE_LAST_PIXEL = 699
  MAP_PROJECTION_ROTATION = 0.0
  MAP_RESOLUTION = 1.9373
  MAP_SCALE = 100.000001
  MAXIMUM_LATITUDE = 90.0
  MINIMUM_LATITUDE = -90.0
  EASTERNMOST_LONGITUDE = 180.0
  WESTERNMOST_LONGITUDE = -180.0
  LINE_PROJECTION_OFFSET = 173.85839052641612
  SAMPLE_PROJECTION_OFFSET = 348.49999643
  COORDINATE_SYSTEM_TYPE = "BODY-FIXED ROTATING"
  COORDINATE_SYSTEM_NAME = PLANETOCENTRIC
  PROJECTION_LATITUDE_TYPE = PLANETOCENTRIC
END_OBJECT = IMAGE_MAP_PROJECTION
END
