PDS_VERSION_ID = PDS3
DD_VERSION_ID = PDSCAT1R100
LABEL_REVISION_NOTE = "2017-05-01, David P. Mayer (USGS), initial PDS3 label pointing to GeoTIFF;"
RECORD_TYPE = FIXED_LENGTH
RECORD_BYTES = 46640
TARGET_NAME = MOON
^IMAGE = ("Lunar_LROnac_Haworth_sfs-dem_1m_v3.tif", 73024 )
OBJECT = IMAGE
  LINES = 12060
  LINE_SAMPLES = 11660
  SAMPLE_BITS = 32
  SAMPLE_TYPE = IEEE_REAL
  BANDS = 1
  BAND_STORAGE_TYPE = BAND_SEQUENTIAL
  SCALING_FACTOR = 1.0
  OFFSET = 0.0
END_OBJECT = IMAGE
OBJECT = IMAGE_MAP_PROJECTION
  MAP_PROJECTION_TYPE = POLAR_STEREOGRAPHIC
  A_AXIS_RADIUS = 1737.4
  B_AXIS_RADIUS = 1737.4
  C_AXIS_RADIUS = 1737.4
  FIRST_STANDARD_PARALLEL = N/A
  SECOND_STANDARD_PARALLEL = N/A
  POSITIVE_LONGITUDE_DIRECTION = EAST
  CENTER_LATITUDE = -90.0
  CENTER_LONGITUDE = 0.0
  REFERENCE_LATITUDE = N/A
  REFERENCE_LONGITUDE = N/A
  LINE_FIRST_PIXEL = 1
  LINE_LAST_PIXEL = 12060
  SAMPLE_FIRST_PIXEL = 1
  SAMPLE_LAST_PIXEL = 11660
  MAP_PROJECTION_ROTATION = 0.0
  MAP_RESOLUTION = 30323.35042414948
  MAP_SCALE = 1.0
  MAXIMUM_LATITUDE = -86.59046214259241
  MINIMUM_LATITUDE = -87.09890342731742
  EASTERNMOST_LONGITUDE = -16.624216585089282
  WESTERNMOST_LONGITUDE = -25.72774505919917
  LINE_PROJECTION_OFFSET = 95319.5
  SAMPLE_PROJECTION_OFFSET = 40119.5
  COORDINATE_SYSTEM_TYPE = "BODY-FIXED ROTATING"
  COORDINATE_SYSTEM_NAME = PLANETOCENTRIC
  PROJECTION_LATITUDE_TYPE = PLANETOCENTRIC
END_OBJECT = IMAGE_MAP_PROJECTION
END
