Object = IsisCube
  Object = Core
    StartByte = 73024
    ^Core = Lunar_LROnac_Haworth_sfs-dem_1m_v3.tif
    Format = BandSequential
    Group = Dimensions
      Samples = 11660
      Lines = 12060
      Bands = 1
    End_Group
    Group = Pixels
      Type = Real
      ByteOrder = Lsb
      Base = 0.0
      Multiplier = 1.0
    End_Group
  End_Object
  Group = Mapping
    TargetName = Moon
    EquatorialRadius = 1737400.0
    PolarRadius = 1737400.0
    LatitudeType = Planetocentric
    LongitudeDirection = PositiveEast
    LongitudeDomain = 180
    MinimumLatitude = -87.0989034273174241
    MinimumLongitude = -25.7277450591991688
    MaximumLatitude = -86.5904621425924148
    MaximumLongitude = -16.6242165850892825
    ProjectionName = PolarStereographic
    CenterLongitude = 0.0
    CenterLatitude = -90.0
    scaleFactor = 1.0
    UpperLeftCornerX = -40120.0
    UpperLeftCornerY = 95320.0
    PixelResolution = 1.0
    Scale = 30323.3504241494811
  End_Group
End_Object
Object = Label
  Bytes = 1349
End_Object
Object = History
  Name = IsisCube
  StartByte = 1
  Bytes = 408
  ^History = Lunar_LROnac_Haworth_sfs-dem_1m_v3.History.IsisCube
End_Object
End
