Object = IsisCube
  Object = Core
    StartByte = 3662
    ^Core = Moon_IceFavorabilityIndex_90N000E_591mp.tif
    Format = BandSequential
    Group = Dimensions
      Samples = 1000
      Lines = 1000
      Bands = 1
    End_Group
    Group = Pixels
      Type = Real
      ByteOrder = Lsb
      Base = 0.0
      Multiplier = 1.0
    End_Group
  End_Object
  Group = Mapping
    TargetName = Moon
    EquatorialRadius = 1737400.0
    PolarRadius = 1737400.0
    LatitudeType = Planetocentric
    LongitudeDirection = PositiveEast
    LongitudeDomain = 180
    MinimumLatitude = 75.8631428748958854
    MinimumLongitude = -135.0
    MaximumLatitude = 75.8631428748958854
    MaximumLongitude = 135.0
    ProjectionName = PolarStereographic
    CenterLongitude = 0.0
    CenterLatitude = 70.0
    scaleFactor = 1.0
    UpperLeftCornerX = -295480.673538870178
    UpperLeftCornerY = 295480.673538870178
    PixelResolution = 590.961347077740356
    Scale = 51.3119014874596786
  End_Group
End_Object
Object = Label
  Bytes = 1369
End_Object
Object = History
  Name = IsisCube
  StartByte = 1
  Bytes = 354
  ^History = Moon_IceFavorabilityIndex_90N000E_591mp.History.IsisCube
End_Object
End
