PDS_VERSION_ID = PDS3
DD_VERSION_ID = PDSCAT1R100
LABEL_REVISION_NOTE = "2017-05-01, David P. Mayer (USGS), initial PDS3 label pointing to GeoTIFF;"
RECORD_TYPE = FIXED_LENGTH
DATA_SET_ID = WAC_morphology_globe_June2013_100m
PRODUCER_ID = ASU
PRODUCER_FULL_NAME = "ARIZONA STATE UNIVERSITY"
PRODUCER_INSTITUTION_NAME = "ARIZONA STATE UNIVERSITY"
PRODUCT_ID = n/a
INSTRUMENT_HOST_NAME = LRO
INSTRUMENT_NAME = LROC-WAC
INSTRUMENT_ID = N/A
RECORD_BYTES = 109164
TARGET_NAME = MOON
^IMAGE = ("Lunar_LRO_LROC-WAC_Mosaic_global_100m_June2013.tif", 874304 )
OBJECT = IMAGE
  LINES = 54582
  LINE_SAMPLES = 109164
  SAMPLE_BITS = 8
  SAMPLE_TYPE = LSB_UNSIGNED_INTEGER
  BANDS = 1
  BAND_STORAGE_TYPE = BAND_SEQUENTIAL
END_OBJECT = IMAGE
OBJECT = IMAGE_MAP_PROJECTION
  MAP_PROJECTION_TYPE = SIMPLE_CYLINDRICAL
  A_AXIS_RADIUS = 1737.4
  B_AXIS_RADIUS = 1737.4
  C_AXIS_RADIUS = 1737.4
  FIRST_STANDARD_PARALLEL = N/A
  SECOND_STANDARD_PARALLEL = N/A
  POSITIVE_LONGITUDE_DIRECTION = EAST
  CENTER_LATITUDE = N/A
  CENTER_LONGITUDE = 0.0
  REFERENCE_LATITUDE = N/A
  REFERENCE_LONGITUDE = N/A
  LINE_FIRST_PIXEL = 1
  LINE_LAST_PIXEL = 54582
  SAMPLE_FIRST_PIXEL = 1
  SAMPLE_LAST_PIXEL = 109164
  MAP_PROJECTION_ROTATION = 0.0
  MAP_RESOLUTION = 303.2333
  MAP_SCALE = 100.0
  MAXIMUM_LATITUDE = 90.0
  MINIMUM_LATITUDE = -90.0
  EASTERNMOST_LONGITUDE = 180.0
  WESTERNMOST_LONGITUDE = -180.0
  LINE_PROJECTION_OFFSET = 27290.515381729998
  SAMPLE_PROJECTION_OFFSET = 54581.53076347
  COORDINATE_SYSTEM_TYPE = "BODY-FIXED ROTATING"
  COORDINATE_SYSTEM_NAME = PLANETOCENTRIC
  PROJECTION_LATITUDE_TYPE = PLANETOCENTRIC
END_OBJECT = IMAGE_MAP_PROJECTION
END
