Object = IsisCube
  Object = Core
    StartByte = 1942304
    Format = BandSequential
    Group = Dimensions
      Samples = 92160
      Lines = 40448
      Bands = 3
    End_Group
    Group = Pixels
      Type = UnsignedByte
      ByteOrder = Lsb
      Base = 0.0
      Multiplier = 1.0
    End_Group
    ^Core = Lunar_LROC_WAC_GLD100_ClrShade_79s79n_118m_v1_1.tif
  End_Object
  Group = Archive
    DataSetId = LRO-L-LROC-5-RDR-V1.0
    ProducerInstitutionName = "ARIZONA STATE UNIVERSITY"
    ProducerId = LRO_LROC_TEAM
    ProducerFullName = Astrogeology
    ProductId = WAC_GLD100_SHADE_100M
    ProductVersionId = v1.1
    InstrumentHostName = "LUNAR RECONNAISSANCE ORBITER"
    InstrumentName = "LUNAR RECONNAISSANCE ORBITER CAMERA"
    InstrumentId = LROC
    TargetName = MOON
    MissionPhaseName = "NOMINAL MISSION, SCIENCE MISSION"
  End_Group
  Group = Mapping
    ProjectionName = Equirectangular
    CenterLongitude = 0.0
    TargetName = Moon
    EquatorialRadius = 1737400.0
    PolarRadius = 1737400.0
    LatitudeType = Planetocentric
    LongitudeDirection = PositiveEast
    LongitudeDomain = 180
    MinimumLatitude = -79.0
    MaximumLatitude = 79.0
    MinimumLongitude = -180.0
    MaximumLongitude = 180.0
    UpperLeftCornerX = -5458203.07634699997
    UpperLeftCornerY = 2395544.68350799987
    PixelResolution = 118.450587999999996
    Scale = 256.0
    CenterLatitude = 0.0
  End_Group
End_Object
Object = Label
  Bytes = 1912
End_Object
Object = History
  Name = IsisCube
  StartByte = 1
  Bytes = 939
  ^History = Lunar_LROC_WAC_GLD100_ClrShade_79s79n_118m_v1_1.History.IsisCube
End_Object
End
