PDS_VERSION_ID = PDS3
DD_VERSION_ID = PDSCAT1R100
LABEL_REVISION_NOTE = "2017-05-01, David P. Mayer (USGS), initial PDS3 label pointing to GeoTIFF;"
RECORD_TYPE = FIXED_LENGTH
DATA_SET_ID = LRO_LOLAKaguya_Shade_60N60S_512ppd
PRODUCER_ID = GSFC
PRODUCER_FULL_NAME = "GSFC AND JAXA"
PRODUCER_INSTITUTION_NAME = "GODDARD SPACE FLIGHT CENTER"
INSTRUMENT_HOST_NAME = "LRO AND SELENE"
INSTRUMENT_NAME = "LUNAR ORBITER LASER ALTIMETER AND TERRAIN CAMERA"
INSTRUMENT_ID = "LOLA AND TC"
RECORD_BYTES = 184320
TARGET_NAME = MOON
^IMAGE = ("Lunar_LRO_LOLAKaguya_Shade_60N60S_512ppd.tif", 984042 )
OBJECT = IMAGE
  LINES = 61440
  LINE_SAMPLES = 184320
  SAMPLE_BITS = 8
  SAMPLE_TYPE = LSB_UNSIGNED_INTEGER
  BANDS = 1
  BAND_STORAGE_TYPE = BAND_SEQUENTIAL
END_OBJECT = IMAGE
OBJECT = IMAGE_MAP_PROJECTION
  MAP_PROJECTION_TYPE = EQUIRECTANGULAR
  A_AXIS_RADIUS = 1737.4
  B_AXIS_RADIUS = 1737.4
  C_AXIS_RADIUS = 1737.4
  FIRST_STANDARD_PARALLEL = N/A
  SECOND_STANDARD_PARALLEL = N/A
  POSITIVE_LONGITUDE_DIRECTION = EAST
  CENTER_LATITUDE = 0.0
  CENTER_LONGITUDE = 0.0
  REFERENCE_LATITUDE = N/A
  REFERENCE_LONGITUDE = N/A
  LINE_FIRST_PIXEL = 1
  LINE_LAST_PIXEL = 61440
  SAMPLE_FIRST_PIXEL = 1
  SAMPLE_LAST_PIXEL = 184320
  MAP_PROJECTION_ROTATION = 0.0
  MAP_RESOLUTION = 512.0
  MAP_SCALE = 59.225294
  MAXIMUM_LATITUDE = 60.0
  MINIMUM_LATITUDE = -60.0
  EASTERNMOST_LONGITUDE = 180.0
  WESTERNMOST_LONGITUDE = -180.0
  LINE_PROJECTION_OFFSET = 30719.499894791574
  SAMPLE_PROJECTION_OFFSET = 92159.49968437472
  COORDINATE_SYSTEM_TYPE = "BODY-FIXED ROTATING"
  COORDINATE_SYSTEM_NAME = PLANETOCENTRIC
  PROJECTION_LATITUDE_TYPE = PLANETOCENTRIC
END_OBJECT = IMAGE_MAP_PROJECTION
END
