Object = IsisCube
  Object = Core
    StartByte = 184956
    Format = BandSequential
    Group = Dimensions
      Samples = 46080
      Lines = 23040
      Bands = 1
    End_Group
    Group = Pixels
      Type = UnsignedByte
      ByteOrder = Lsb
      Base = 0.0
      Multiplier = 1.0
    End_Group
    ^Core = Lunar_LRO_LOLA_Shade_Global_128ppd_v04.tif
  End_Object
  Group = Archive
    DataSetId = LRO-L-LOLA-4-GDR-V1.0
    ProducerInstitutionName = "GODDARD SPACE FLIGHT CENTER"
    ProducerId = LRO_LOLA_TEAM
    ProducerFullName = "DAVID E. SMITH"
    ProductId = LDEM_128
    ProductVersionId = V1.05
    InstrumentHostName = "LUNAR RECONNAISSANCE ORBITER"
    InstrumentName = "LUNAR ORBITER LASER ALTIMETER"
    InstrumentId = LOLA
    TargetName = MOON
    MissionPhaseName = "(COMMISSIONING, NOMINAL MISSION, SCIENCE MISSION)"
  End_Group
  Group = Mapping
    ProjectionName = SimpleCylindrical
    CenterLongitude = 180.0
    TargetName = Moon
    EquatorialRadius = 1737400.0
    PolarRadius = 1737400.0
    LatitudeType = Planetocentric
    LongitudeDirection = PositiveEast
    LongitudeDomain = 360
    MinimumLatitude = -90.0
    MaximumLatitude = 90.0
    MinimumLongitude = 0.0
    MaximumLongitude = 360.0
    UpperLeftCornerX = -5458203.07660800032
    UpperLeftCornerY = 2729101.53830400016
    PixelResolution = 236.901174999999995
    Scale = 128.0
  End_Group
End_Object
Object = Label
  Bytes = 2081
End_Object
Object = History
  Name = IsisCube
  StartByte = 1
  Bytes = 2272
  ^History = Lunar_LRO_LOLA_Shade_Global_128ppd_v04.History.IsisCube
End_Object
Object = OriginalLabel
  Name = IsisCube
  StartByte = 1
  Bytes = 3635
  ^OriginalLabel = Lunar_LRO_LOLA_Shade_Global_128ppd_v04.OriginalLabel.IsisCu- be
End_Object
End
