Object = IsisCube
  Object = Core
    StartByte = 93002
    Format = BandSequential
    Group = Dimensions
      Samples = 23040
      Lines = 11520
      Bands = 1
    End_Group
    Group = Pixels
      Type = SignedWord
      ByteOrder = Lsb
      Base = -1.14470611833894996e-06
      Multiplier = 0.0100001526274820004
    End_Group
    ^Core = Lunar_Kaguya_TC_Evening_Global_64ppd_v04.tif
  End_Object
  Group = BandBin
    FilterName = BroadBand
    Center = 640nm
    Width = 420nm
  End_Group
  Group = Mapping
    ProjectionName = SimpleCylindrical
    CenterLongitude = 0.0
    TargetName = Moon
    EquatorialRadius = 1737400.0
    PolarRadius = 1737400.0
    LatitudeType = Planetocentric
    LongitudeDirection = PositiveEast
    LongitudeDomain = 360
    MinimumLatitude = -90.0
    MaximumLatitude = 90.0
    MinimumLongitude = -180.0
    MaximumLongitude = 180.0
    UpperLeftCornerX = -5458203.07634699997
    UpperLeftCornerY = 2729101.53817299986
    PixelResolution = 473.80234999999999
    Scale = 64.0
  End_Group
End_Object
Object = Label
  Bytes = 1644
End_Object
Object = History
  Name = IsisCube
  StartByte = 1
  Bytes = 3603
  ^History = Lunar_Kaguya_TC_Evening_Global_64ppd_v04.History.IsisCube
End_Object
Object = OriginalLabel
  Name = IsisCube
  StartByte = 1
  Bytes = 3796
  ^OriginalLabel = Lunar_Kaguya_TC_Evening_Global_64ppd_v04.OriginalLabel.Isis- Cube
End_Object
End
