PDS_VERSION_ID = PDS3
DD_VERSION_ID = PDSCAT1R100
LABEL_REVISION_NOTE = "2017-05-01, David P. Mayer (USGS), initial PDS3 label pointing to GeoTIFF;"
RECORD_TYPE = FIXED_LENGTH
DATA_SET_ID = Clem_UVVIS_Warp_ClrRatio_Global_152ppd
PRODUCER_ID = ASTROGEOLOGY
PRODUCER_FULL_NAME = "ASTROGEOLOGY SCIENCE CENTER"
PRODUCER_INSTITUTION_NAME = "USGS, ASTROGEOLOGY SCIENCE CENTER"
PRODUCT_ID = "Clementine Warp Color Ratio"
INSTRUMENT_HOST_NAME = CLEMENTINE
INSTRUMENT_NAME = "UV/VIS CAMERA"
INSTRUMENT_ID = UVVIS
RECORD_BYTES = 54545
TARGET_NAME = MOON
^IMAGE = ("Lunar_Clementine_UVVIS_Warp_ClrRatio_Global_200m.tif", 1309894 )
OBJECT = IMAGE
  LINES = 27273
  LINE_SAMPLES = 54545
  SAMPLE_BITS = 8
  SAMPLE_TYPE = LSB_UNSIGNED_INTEGER
  BANDS = 3
  BAND_STORAGE_TYPE = BAND_SEQUENTIAL
END_OBJECT = IMAGE
OBJECT = IMAGE_MAP_PROJECTION
  MAP_PROJECTION_TYPE = SIMPLE_CYLINDRICAL
  A_AXIS_RADIUS = 1737.4
  B_AXIS_RADIUS = 1737.4
  C_AXIS_RADIUS = 1737.4
  FIRST_STANDARD_PARALLEL = N/A
  SECOND_STANDARD_PARALLEL = N/A
  POSITIVE_LONGITUDE_DIRECTION = EAST
  CENTER_LATITUDE = 0.0
  CENTER_LONGITUDE = 0.0
  REFERENCE_LATITUDE = N/A
  REFERENCE_LONGITUDE = N/A
  LINE_FIRST_PIXEL = 1
  LINE_LAST_PIXEL = 27273
  SAMPLE_FIRST_PIXEL = 1
  SAMPLE_LAST_PIXEL = 54545
  MAP_PROJECTION_ROTATION = 0.0
  MAP_RESOLUTION = 151.5152
  MAP_SCALE = 200.134113
  MAXIMUM_LATITUDE = 90.0
  MINIMUM_LATITUDE = -90.0
  EASTERNMOST_LONGITUDE = 180.0
  WESTERNMOST_LONGITUDE = -180.0
  LINE_PROJECTION_OFFSET = 13636.136349965984
  SAMPLE_PROJECTION_OFFSET = 27272.227245389695
  COORDINATE_SYSTEM_TYPE = "BODY-FIXED ROTATING"
  COORDINATE_SYSTEM_NAME = PLANETOCENTRIC
  PROJECTION_LATITUDE_TYPE = PLANETOCENTRIC
END_OBJECT = IMAGE_MAP_PROJECTION
END
