Object = IsisCube
  Object = Core
    StartByte = 102552
    Format = BandSequential
    Group = Dimensions
      Samples = 10918
      Lines = 4246
      Bands = 3
    End_Group
    Group = Pixels
      Type = UnsignedByte
      ByteOrder = Lsb
      Base = 0.0
      Multiplier = 1.0
    End_Group
    ^Core = Lunar_Clementine_UVVIS_FeO_ClrBinned_70S70N_1km.tif
  End_Object
  Group = BandBin
    Center = (1.0, 2.0, 3.0)
    OriginalBand = (1, 2, 3)
  End_Group
  Group = Mapping
    ProjectionName = SimpleCylindrical
    CenterLongitude = 180.0
    TargetName = Moon
    EquatorialRadius = 1737400.0
    PolarRadius = 1737400.0
    LatitudeType = Planetocentric
    LongitudeDirection = PositiveEast
    LongitudeDomain = 360
    MinimumLatitude = -70.0
    MaximumLatitude = 70.0
    MinimumLongitude = 0.0
    MaximumLongitude = 360.0
    UpperLeftCornerX = -5459063.32440000027
    UpperLeftCornerY = 2123024.6268000002
    PixelResolution = 1000.01160000000004
    Scale = 30.3229989999999994
  End_Group
End_Object
Object = Label
  Bytes = 1396
End_Object
Object = History
  Name = IsisCube
  StartByte = 1
  Bytes = 1748
  ^History = Lunar_Clementine_UVVIS_FeO_ClrBinned_70S70N_1km.History.IsisCube
End_Object
End
