2000.000000000000000
0.000000000000000
0.000000000000000
-2000.000000000000000
-7665000.000000000000000
3833000.000000000000000
