500.000000000000000
0.000000000000000
0.000000000000000
-500.000000000000000
-7665250.000000000000000
3832750.000000000000000
