PDS_VERSION_ID = PDS3
DD_VERSION_ID = PDSCAT1R100
LABEL_REVISION_NOTE = "2017-05-01, David P. Mayer (USGS), initial PDS3 label pointing to GeoTIFF;"
RECORD_TYPE = FIXED_LENGTH
DATA_SET_ID = MDIM21_USGS_AMES_recolor
PRODUCER_ID = ASTROGEOLOGY
PRODUCER_FULL_NAME = USGS
PRODUCER_INSTITUTION_NAME = "ASTROGEOLOGY SCIENCE CENTER"
PRODUCT_ID = MDIM21
INSTRUMENT_HOST_NAME = VIKING
INSTRUMENT_NAME = VIS
RECORD_BYTES = 92160
TARGET_NAME = MARS
^IMAGE = ("Mars_Viking_MDIM21_ClrMosaic_global_232m.tif", 2212630 )
OBJECT = IMAGE
  LINES = 46080
  LINE_SAMPLES = 92160
  SAMPLE_BITS = 8
  SAMPLE_TYPE = LSB_UNSIGNED_INTEGER
  BANDS = 3
  BAND_STORAGE_TYPE = BAND_SEQUENTIAL
END_OBJECT = IMAGE
OBJECT = IMAGE_MAP_PROJECTION
  MAP_PROJECTION_TYPE = SIMPLE_CYLINDRICAL
  A_AXIS_RADIUS = 3396.19
  B_AXIS_RADIUS = 3396.19
  C_AXIS_RADIUS = 3376.2
  FIRST_STANDARD_PARALLEL = N/A
  SECOND_STANDARD_PARALLEL = N/A
  POSITIVE_LONGITUDE_DIRECTION = EAST
  CENTER_LATITUDE = 0.0
  CENTER_LONGITUDE = 0.0
  REFERENCE_LATITUDE = N/A
  REFERENCE_LONGITUDE = N/A
  LINE_FIRST_PIXEL = 1
  LINE_LAST_PIXEL = 46080
  SAMPLE_FIRST_PIXEL = 1
  SAMPLE_LAST_PIXEL = 92160
  MAP_PROJECTION_ROTATION = 0.0
  MAP_RESOLUTION = 256.0
  MAP_SCALE = 231.541787
  MAXIMUM_LATITUDE = 90.0
  MINIMUM_LATITUDE = -90.0
  EASTERNMOST_LONGITUDE = 180.0
  WESTERNMOST_LONGITUDE = -180.0
  LINE_PROJECTION_OFFSET = 23039.500019944564
  SAMPLE_PROJECTION_OFFSET = 46079.500039884806
  COORDINATE_SYSTEM_TYPE = "BODY-FIXED ROTATING"
  COORDINATE_SYSTEM_NAME = PLANETOCENTRIC
  PROJECTION_LATITUDE_TYPE = PLANETOCENTRIC
END_OBJECT = IMAGE_MAP_PROJECTION
END
