PDS_VERSION_ID = PDS3
DD_VERSION_ID = PDSCAT1R100
LABEL_REVISION_NOTE = "2017-05-01, David P. Mayer (USGS), initial PDS3 label pointing to GeoTIFF;"
RECORD_TYPE = FIXED_LENGTH
RECORD_BYTES = 106694
TARGET_NAME = MARS
^IMAGE = '("Mars_HRSC_MOLA_BlendShade_Global_200mp_v2.tif", 854273 )'
OBJECT = IMAGE
  LINE_SAMPLES = 106694
  OFFSET = 0.0
  BANDS = 1
  SAMPLE_BITS = 8
  LINES = 53347
  SCALING_FACTOR = 1.0
  SAMPLE_TYPE = LSB_UNSIGNED_INTEGER
  BAND_STORAGE_TYPE = BAND_SEQUENTIAL
END_OBJECT = IMAGE
OBJECT = IMAGE_MAP_PROJECTION
  LINE_FIRST_PIXEL = 1
  C_AXIS_RADIUS = 3396.19
  CENTER_LATITUDE = 0.0
  COORDINATE_SYSTEM_NAME = PLANETOCENTRIC
  REFERENCE_LATITUDE = N/A
  EASTERNMOST_LONGITUDE = 179.99844790441085
  MAP_SCALE = 199.999991643332
  PROJECTION_LATITUDE_TYPE = PLANETOCENTRIC
  FIRST_STANDARD_PARALLEL = N/A
  WESTERNMOST_LONGITUDE = -180.0
  SECOND_STANDARD_PARALLEL = N/A
  SAMPLE_FIRST_PIXEL = 1
  MAP_RESOLUTION = 296.37350000000583
  CENTER_LONGITUDE = 0.0
  COORDINATE_SYSTEM_TYPE = "BODY-FIXED ROTATING"
  LINE_LAST_PIXEL = 53347
  MAP_PROJECTION_ROTATION = 0.0
  A_AXIS_RADIUS = 3396.19
  SAMPLE_PROJECTION_OFFSET = 53346.730000001044
  LINE_PROJECTION_OFFSET = 26673.115000000522
  B_AXIS_RADIUS = 3396.19
  MAXIMUM_LATITUDE = 90.0
  MINIMUM_LATITUDE = -89.99922395220543
  POSITIVE_LONGITUDE_DIRECTION = EAST
  REFERENCE_LONGITUDE = N/A
  SAMPLE_LAST_PIXEL = 106694
  MAP_PROJECTION_TYPE = SIMPLE_CYLINDRICAL
END_OBJECT = IMAGE_MAP_PROJECTION
END
