PDS_VERSION_ID = PDS3
DD_VERSION_ID = PDSCAT1R100
LABEL_REVISION_NOTE = "2017-05-01, David P. Mayer (USGS), initial PDS3 label pointing to GeoTIFF;"
RECORD_TYPE = FIXED_LENGTH
DATA_SET_ID = "THEMIS Night IR Controlled Mosaics"
PRODUCER_ID = ASTROGEOLOGY
PRODUCER_FULL_NAME = "ASTROGEOLOGY SCIENCE CENTER"
PRODUCER_INSTITUTION_NAME = "USGS, ASTROGEOLOGY SCIENCE CENTER"
PRODUCT_ID = THEMIS_NightIR_ControlledMosaics
INSTRUMENT_HOST_NAME = "MARS ODYSSEY"
INSTRUMENT_NAME = "THERMAL EMISSION IMAGING SYSTEM"
INSTRUMENT_ID = THEMIS
RECORD_BYTES = 26674
TARGET_NAME = MARS
^IMAGE = ("THEMIS_NightIR_ControlledMosaic_OxiaPalus_00N315E_100mpp.tif", 142892 )
OBJECT = IMAGE
  LINES = 17783
  LINE_SAMPLES = 26674
  SAMPLE_BITS = 8
  SAMPLE_TYPE = LSB_UNSIGNED_INTEGER
  BANDS = 1
  BAND_STORAGE_TYPE = BAND_SEQUENTIAL
  SCALING_FACTOR = 1.0
  OFFSET = 0.0
END_OBJECT = IMAGE
OBJECT = IMAGE_MAP_PROJECTION
  MAP_PROJECTION_TYPE = SIMPLE_CYLINDRICAL
  A_AXIS_RADIUS = 3396.19
  B_AXIS_RADIUS = 3396.19
  C_AXIS_RADIUS = 3376.2
  FIRST_STANDARD_PARALLEL = N/A
  SECOND_STANDARD_PARALLEL = N/A
  POSITIVE_LONGITUDE_DIRECTION = EAST
  CENTER_LATITUDE = N/A
  CENTER_LONGITUDE = 0
  REFERENCE_LATITUDE = N/A
  REFERENCE_LONGITUDE = N/A
  LINE_FIRST_PIXEL = 1
  LINE_LAST_PIXEL = 17783
  SAMPLE_FIRST_PIXEL = 1
  SAMPLE_LAST_PIXEL = 26674
  MAP_PROJECTION_ROTATION = 0.0
  MAP_RESOLUTION = 592.747
  MAP_SCALE = 100
  MAXIMUM_LATITUDE = 30
  MINIMUM_LATITUDE = 0
  EASTERNMOST_LONGITUDE = 0
  WESTERNMOST_LONGITUDE = -45
  LINE_PROJECTION_OFFSET = 17782.5
  SAMPLE_PROJECTION_OFFSET = 26673.5
  COORDINATE_SYSTEM_TYPE = "BODY-FIXED ROTATING"
  COORDINATE_SYSTEM_NAME = PLANETOCENTRIC
  PROJECTION_LATITUDE_TYPE = PLANETOCENTRIC
END_OBJECT = IMAGE_MAP_PROJECTION
END
