Object = IsisCube
  Object = Core
    Group = Dimensions
      Samples = 26674
      Lines = 17783
      Bands = 1
    End_Group
    Group = Pixels
      Type = UnsignedByte
      ByteOrder = Lsb
      Base = 0.0
      Multiplier = 1.0
    End_Group
    StartByte = 142892
    ^Core = THEMIS_NightIR_ControlledMosaic_SinusSabaeus_30S00E_100mpp.tif
    Format = BandSequential
  End_Object
  Group = BandBin
    OriginalBand = 9
    Center = 12.5700000000000003
    Width = 0.810000000000000053
    FilterNumber = 9
    BandNumber = 9
  End_Group
  Group = Archive
    DataSetId = "THEMIS Night IR Controlled Mosaics"
    ProducerInstitutionName = "USGS, Astrogeology Science Center"
    ProducerId = Astrogeology
    ProducerFullName = "Astrogeology Science Center"
    ProductId = THEMIS_NightIR_ControlledMosaics
    ProductVersionId = 2
    InstrumentHostName = "Mars Odyssey"
    InstrumentName = "Thermal Emission Imaging System"
    InstrumentId = THEMIS
    TargetName = Mars
    MissionPhaseName = Nominal
  End_Group
  Group = Mapping
    ProjectionName = SimpleCylindrical
    CenterLongitude = 0
    TargetName = Mars
    EquatorialRadius = 3396190.0
    PolarRadius = 3376200.0
    LatitudeType = Planetocentric
    LongitudeDirection = PositiveEast
    LongitudeDomain = 180
    MinimumLatitude = -30
    MaximumLatitude = 0
    MinimumLongitude = 0
    MaximumLongitude = 45
    UpperLeftCornerX = 0
    UpperLeftCornerY = 0
    PixelResolution = 100
    Scale = 592.746999999999957
  End_Group
End_Object
Object = Label
  Bytes = 1786
End_Object
End
