100.0000000000
0.0000000000
0.0000000000
-100.0000000000
-10669450.0000000000
1778250.0000000000
