PDS_VERSION_ID = PDS3
DD_VERSION_ID = PDSCAT1R100
LABEL_REVISION_NOTE = "2018-03-06, David P. Mayer (USGS), initial PDS3 label pointing to GeoTIFF;"
RECORD_TYPE = FIXED_LENGTH
RECORD_BYTES = 6287
TARGET_NAME = MARS
^IMAGE = ("G19_025481_2045_XI_24N070W_6m_o.tif", 161574 )
OBJECT = IMAGE
  LINES = 20116
  LINE_SAMPLES = 6287
  SAMPLE_BITS = 8
  SAMPLE_TYPE = LSB_UNSIGNED_INTEGER
  BANDS = 1
  BAND_STORAGE_TYPE = BAND_SEQUENTIAL
  SCALING_FACTOR = 1.0
  OFFSET = 0.0
END_OBJECT = IMAGE
OBJECT = IMAGE_MAP_PROJECTION
  MAP_PROJECTION_TYPE = EQUIRECTANGULAR
  A_AXIS_RADIUS = 3396.19
  B_AXIS_RADIUS = 3396.19
  C_AXIS_RADIUS = 3376.2
  FIRST_STANDARD_PARALLEL = N/A
  SECOND_STANDARD_PARALLEL = N/A
  POSITIVE_LONGITUDE_DIRECTION = EAST
  CENTER_LATITUDE = 0
  CENTER_LONGITUDE = 180
  REFERENCE_LATITUDE = N/A
  REFERENCE_LONGITUDE = N/A
  LINE_FIRST_PIXEL = 1
  LINE_LAST_PIXEL = 20116
  SAMPLE_FIRST_PIXEL = 1
  SAMPLE_LAST_PIXEL = 6287
  MAP_PROJECTION_ROTATION = 0.0
  MAP_RESOLUTION = 9795.81273561
  MAP_SCALE = 6.0510239551466
  MAXIMUM_LATITUDE = 26.571964010945
  MINIMUM_LATITUDE = 24.518417222394
  EASTERNMOST_LONGITUDE = 289.88259117
  WESTERNMOST_LONGITUDE = 289.24076341
  LINE_PROJECTION_OFFSET = 260293.4999999952
  SAMPLE_PROJECTION_OFFSET = -1070102.500000002
  COORDINATE_SYSTEM_TYPE = "BODY-FIXED ROTATING"
  COORDINATE_SYSTEM_NAME = PLANETOCENTRIC
  PROJECTION_LATITUDE_TYPE = PLANETOCENTRIC
END_OBJECT = IMAGE_MAP_PROJECTION
END
