PDS_VERSION_ID = PDS3
DD_VERSION_ID = PDSCAT1R100
LABEL_REVISION_NOTE = "2018-03-06, David P. Mayer (USGS), initial PDS3 label pointing to GeoTIFF;"
RECORD_TYPE = FIXED_LENGTH
RECORD_BYTES = 8500
TARGET_NAME = MARS
^IMAGE = ("DEM_18m_N_Kasei_Valles_distal_flow.tif", 30776 )
OBJECT = IMAGE
  LINES = 3763
  LINE_SAMPLES = 2125
  SAMPLE_BITS = 32
  SAMPLE_TYPE = IEEE_REAL
  BANDS = 1
  BAND_STORAGE_TYPE = BAND_SEQUENTIAL
  SCALING_FACTOR = 1.0
  OFFSET = 0.0
END_OBJECT = IMAGE
OBJECT = IMAGE_MAP_PROJECTION
  MAP_PROJECTION_TYPE = EQUIRECTANGULAR
  A_AXIS_RADIUS = 3396.19
  B_AXIS_RADIUS = 3396.19
  C_AXIS_RADIUS = 3376.2
  FIRST_STANDARD_PARALLEL = N/A
  SECOND_STANDARD_PARALLEL = N/A
  POSITIVE_LONGITUDE_DIRECTION = EAST
  CENTER_LATITUDE = 0
  CENTER_LONGITUDE = 180
  REFERENCE_LATITUDE = N/A
  REFERENCE_LONGITUDE = N/A
  LINE_FIRST_PIXEL = 1
  LINE_LAST_PIXEL = 3763
  SAMPLE_FIRST_PIXEL = 1
  SAMPLE_LAST_PIXEL = 2125
  MAP_PROJECTION_ROTATION = 0.0
  MAP_RESOLUTION = 3265.9083761
  MAP_SCALE = 18.149528614177
  MAXIMUM_LATITUDE = 26.889371243244
  MINIMUM_LATITUDE = 25.73743741149
  EASTERNMOST_LONGITUDE = 297.03041952
  WESTERNMOST_LONGITUDE = 296.38013826
  LINE_PROJECTION_OFFSET = 87818.49999999945
  SAMPLE_PROJECTION_OFFSET = -380086.4999999956
  COORDINATE_SYSTEM_TYPE = "BODY-FIXED ROTATING"
  COORDINATE_SYSTEM_NAME = PLANETOCENTRIC
  PROJECTION_LATITUDE_TYPE = PLANETOCENTRIC
END_OBJECT = IMAGE_MAP_PROJECTION
END
