PDS_VERSION_ID = PDS3
DD_VERSION_ID = PDSCAT1R100
LABEL_REVISION_NOTE = "2017-10-27, David P. Mayer (USGS), initial PDS3 label pointing to GeoTIFF;"
RECORD_TYPE = FIXED_LENGTH
RECORD_BYTES = 7189
TARGET_NAME = MARS
^IMAGE = ("P17_007556_2012_XI_21N285W_6m_ORTHO.tif", 144998 )
OBJECT = IMAGE
  LINES = 18044
  LINE_SAMPLES = 7189
  SAMPLE_BITS = 8
  SAMPLE_TYPE = LSB_UNSIGNED_INTEGER
  BANDS = 1
  BAND_STORAGE_TYPE = BAND_SEQUENTIAL
  SCALING_FACTOR = 1.0
  OFFSET = 0.0
END_OBJECT = IMAGE
OBJECT = IMAGE_MAP_PROJECTION
  MAP_PROJECTION_TYPE = EQUIRECTANGULAR
  A_AXIS_RADIUS = 3396.19
  B_AXIS_RADIUS = 3396.19
  C_AXIS_RADIUS = 3376.2
  FIRST_STANDARD_PARALLEL = N/A
  SECOND_STANDARD_PARALLEL = N/A
  POSITIVE_LONGITUDE_DIRECTION = EAST
  CENTER_LATITUDE = 0
  CENTER_LONGITUDE = 180
  REFERENCE_LATITUDE = N/A
  REFERENCE_LONGITUDE = N/A
  LINE_FIRST_PIXEL = 1
  LINE_LAST_PIXEL = 18044
  SAMPLE_FIRST_PIXEL = 1
  SAMPLE_LAST_PIXEL = 7189
  MAP_PROJECTION_ROTATION = 0.0
  MAP_RESOLUTION = 9785.27859522
  MAP_SCALE = 6.0575380605169
  MAXIMUM_LATITUDE = 22.219219571953
  MINIMUM_LATITUDE = 20.375316761871
  EASTERNMOST_LONGITUDE = 74.80193102
  WESTERNMOST_LONGITUDE = 74.06736255
  LINE_PROJECTION_OFFSET = 217421.4999999991
  SAMPLE_PROJECTION_OFFSET = 1036580.4999999886
  COORDINATE_SYSTEM_TYPE = "BODY-FIXED ROTATING"
  COORDINATE_SYSTEM_NAME = PLANETOCENTRIC
  PROJECTION_LATITUDE_TYPE = PLANETOCENTRIC
END_OBJECT = IMAGE_MAP_PROJECTION
END
