Object = IsisCube
  Object = Core
    StartByte = 144998
    Format = BandSequential
    Group = Dimensions
      Samples = 7189
      Lines = 18044
      Bands = 1
    End_Group
    Group = Pixels
      Type = UnsignedByte
      ByteOrder = Lsb
      Base = 0.0
      Multiplier = 1.0
    End_Group
    ^Core = P14_006633_2018_XI_21N285W_6m_ORTHO.tif
  End_Object
  Group = Mapping
    ProjectionName = Equirectangular
    CenterLongitude = 180
    TargetName = Mars
    EquatorialRadius = 3396190
    PolarRadius = 3376200
    LatitudeType = Planetocentric
    LongitudeDirection = PositiveEast
    LongitudeDomain = 360
    MinimumLatitude = 20.3753167618710016
    MaximumLatitude = 22.2192195719530012
    MinimumLongitude = 74.0673625499999986
    MaximumLongitude = 74.8019310199999978
    UpperLeftCornerX = -6279128.86030859966
    UpperLeftCornerY = 1317042.0401937
    PixelResolution = 6.05753806051690002
    Scale = 9785.27859521999926
    CenterLatitude = 0
  End_Group
  Group = AlphaCube
    AlphaSamples = 6780
    AlphaLines = 18200
    AlphaStartingSample = 0.5
    AlphaStartingLine = 0.5
    AlphaEndingSample = 6780.5
    AlphaEndingLine = 18200.5
    BetaSamples = 6711
    BetaLines = 18200
  End_Group
End_Object
Object = Label
  Bytes = 1503
End_Object
End
