PDS_VERSION_ID = PDS3
DD_VERSION_ID = PDSCAT1R100
LABEL_REVISION_NOTE = "2017-10-27, David P. Mayer (USGS), initial PDS3 label pointing to GeoTIFF;"
RECORD_TYPE = FIXED_LENGTH
RECORD_BYTES = 8628
TARGET_NAME = MARS
^IMAGE = ("P14_006633_2018_P17_007556_2012_20m_slope_20m.tif", 43984 )
OBJECT = IMAGE
  LINES = 5414
  LINE_SAMPLES = 2157
  SAMPLE_BITS = 32
  SAMPLE_TYPE = IEEE_REAL
  BANDS = 1
  BAND_STORAGE_TYPE = BAND_SEQUENTIAL
  SCALING_FACTOR = 1.0
  OFFSET = 0.0
END_OBJECT = IMAGE
OBJECT = IMAGE_MAP_PROJECTION
  MAP_PROJECTION_TYPE = EQUIRECTANGULAR
  A_AXIS_RADIUS = 3396.19
  B_AXIS_RADIUS = 3396.19
  C_AXIS_RADIUS = 3396.19
  FIRST_STANDARD_PARALLEL = N/A
  SECOND_STANDARD_PARALLEL = N/A
  POSITIVE_LONGITUDE_DIRECTION = EAST
  CENTER_LATITUDE = 0.0
  CENTER_LONGITUDE = 180.0
  REFERENCE_LATITUDE = N/A
  REFERENCE_LONGITUDE = N/A
  LINE_FIRST_PIXEL = 1
  LINE_LAST_PIXEL = 5414
  SAMPLE_FIRST_PIXEL = 1
  SAMPLE_LAST_PIXEL = 2157
  MAP_PROJECTION_ROTATION = 0.0
  MAP_RESOLUTION = 2935.58357856996
  MAP_SCALE = 20.191793535029
  MAXIMUM_LATITUDE = 22.2196024245963
  MINIMUM_LATITUDE = 20.375335397241766
  EASTERNMOST_LONGITUDE = 74.801666607484
  WESTERNMOST_LONGITUDE = 74.06688936736509
  LINE_PROJECTION_OFFSET = 65226.99999999819
  SAMPLE_PROJECTION_OFFSET = 310974.99999999785
  COORDINATE_SYSTEM_TYPE = "BODY-FIXED ROTATING"
  COORDINATE_SYSTEM_NAME = PLANETOCENTRIC
  PROJECTION_LATITUDE_TYPE = PLANETOCENTRIC
END_OBJECT = IMAGE_MAP_PROJECTION
END
