Object = IsisCube
  Object = Core
    StartByte = 43984
    ^Core = P14_006633_2018_P17_007556_2012_20m_slope_20m.tif
    Format = BandSequential
    Group = Dimensions
      Samples = 2157
      Lines = 5414
      Bands = 1
    End_Group
    Group = Pixels
      Type = Real
      ByteOrder = Lsb
      Base = 0.0
      Multiplier = 1.0
    End_Group
  End_Object
  Group = Mapping
    TargetName = Mars
    EquatorialRadius = 3396190.0
    PolarRadius = 3396190.0
    LatitudeType = Planetocentric
    LongitudeDirection = PositiveEast
    LongitudeDomain = 180
    MinimumLatitude = 20.3753353972417663
    MinimumLongitude = 74.0668893673650928
    MaximumLatitude = 22.2196024245962995
    MaximumLongitude = 74.8016666074839947
    ProjectionName = Equirectangular
    CenterLongitude = 180.0
    CenterLatitude = 0.0
    CenterLatitudeRadius = 3396190.0
    UpperLeftCornerX = -6279153.09045236744
    UpperLeftCornerY = 1317060.21280606743
    PixelResolution = 20.1917935350289994
    Scale = 2935.58357856996008
  End_Group
End_Object
Object = Label
  Bytes = 1282
End_Object
End
