Object = IsisCube
  Object = Core
    StartByte = 43984
    Format = BandSequential
    Group = Dimensions
      Samples = 2157
      Lines = 5414
      Bands = 1
    End_Group
    Group = Pixels
      Type = Real
      ByteOrder = Lsb
      Base = 0.0
      Multiplier = 1.0
    End_Group
    ^Core = P14_006633_2018_P17_007556_2012_20m_DTM_destripe.tif
  End_Object
  Group = Mapping
    ProjectionName = Equirectangular
    CenterLongitude = 180
    TargetName = Mars
    EquatorialRadius = 3396190
    PolarRadius = 3376200
    LatitudeType = Planetocentric
    LongitudeDirection = PositiveEast
    LongitudeDomain = 360
    MinimumLatitude = 20.3753167717819998
    MaximumLatitude = 22.2192195719530012
    MinimumLongitude = 74.0673625499999986
    MaximumLongitude = 74.8019310199999978
    UpperLeftCornerX = -6279142.99455559999
    UpperLeftCornerY = 1317050.11690929998
    PixelResolution = 20.1917935350289994
    Scale = 2935.5835785700001
    CenterLatitude = 0
  End_Group
  Group = AlphaCube
    AlphaSamples = 2034
    AlphaLines = 5460
    AlphaStartingSample = 0.5
    AlphaStartingLine = 0.5
    AlphaEndingSample = 2034.5
    AlphaEndingLine = 5460.5
    BetaSamples = 2013
    BetaLines = 5460
  End_Group
End_Object
Object = Label
  Bytes = 1506
End_Object
End
