PDS_VERSION_ID = PDS3
DD_VERSION_ID = PDSCAT1R100
LABEL_REVISION_NOTE = "2017-10-27, David P. Mayer (USGS), initial PDS3 label pointing to GeoTIFF;"
RECORD_TYPE = FIXED_LENGTH
RECORD_BYTES = 6644
TARGET_NAME = MARS
^IMAGE = ("F21_043907_1652_F21_043841_1654_20m_DTM.tif", 23424 )
OBJECT = IMAGE
  LINES = 2844
  LINE_SAMPLES = 1661
  SAMPLE_BITS = 32
  SAMPLE_TYPE = IEEE_REAL
  BANDS = 1
  BAND_STORAGE_TYPE = BAND_SEQUENTIAL
  SCALING_FACTOR = 1.0
  OFFSET = 0.0
END_OBJECT = IMAGE
OBJECT = IMAGE_MAP_PROJECTION
  MAP_PROJECTION_TYPE = EQUIRECTANGULAR
  A_AXIS_RADIUS = 3396.19
  B_AXIS_RADIUS = 3396.19
  C_AXIS_RADIUS = 3376.2
  FIRST_STANDARD_PARALLEL = N/A
  SECOND_STANDARD_PARALLEL = N/A
  POSITIVE_LONGITUDE_DIRECTION = EAST
  CENTER_LATITUDE = 0
  CENTER_LONGITUDE = 180
  REFERENCE_LATITUDE = N/A
  REFERENCE_LONGITUDE = N/A
  LINE_FIRST_PIXEL = 1
  LINE_LAST_PIXEL = 2844
  SAMPLE_FIRST_PIXEL = 1
  SAMPLE_LAST_PIXEL = 1661
  MAP_PROJECTION_ROTATION = 0.0
  MAP_RESOLUTION = 2932.31653965
  MAP_SCALE = 20.214290211104
  MAXIMUM_LATITUDE = -14.172801195334
  MINIMUM_LATITUDE = -15.14255462368
  EASTERNMOST_LONGITUDE = 175.72245726
  WESTERNMOST_LONGITUDE = 175.15626276
  LINE_PROJECTION_OFFSET = -41559.500000000444
  SAMPLE_PROJECTION_OFFSET = 14203.500000000435
  COORDINATE_SYSTEM_TYPE = "BODY-FIXED ROTATING"
  COORDINATE_SYSTEM_NAME = PLANETOCENTRIC
  PROJECTION_LATITUDE_TYPE = PLANETOCENTRIC
END_OBJECT = IMAGE_MAP_PROJECTION
END
