Object = IsisCube
  Object = Core
    StartByte = 76486
    Format = BandSequential
    Group = Dimensions
      Samples = 5535
      Lines = 9480
      Bands = 1
    End_Group
    Group = Pixels
      Type = UnsignedByte
      ByteOrder = Lsb
      Base = 0.0
      Multiplier = 1.0
    End_Group
    ^Core = F21_043841_1654_XN_14S184W_6m_ORTHO.tif
  End_Object
  Group = Mapping
    ProjectionName = Equirectangular
    CenterLongitude = 180
    TargetName = Mars
    EquatorialRadius = 3396190
    PolarRadius = 3376200
    LatitudeType = Planetocentric
    LongitudeDirection = PositiveEast
    LongitudeDomain = 360
    MinimumLatitude = -15.1425883783829995
    MaximumLatitude = -14.1728011953339994
    MinimumLongitude = 175.156262760000004
    MaximumLongitude = 175.722457249999991
    UpperLeftCornerX = -287113.671013419982
    UpperLeftCornerY = -840085.686883280054
    PixelResolution = 6.06428706333130041
    Scale = 9774.38846550000017
    CenterLatitude = 0
  End_Group
  Group = AlphaCube
    AlphaSamples = 5410
    AlphaLines = 9577
    AlphaStartingSample = 0.5
    AlphaStartingLine = 0.5
    AlphaEndingSample = 5410.5
    AlphaEndingLine = 9577.5
    BetaSamples = 5351
    BetaLines = 9577
  End_Group
End_Object
Object = Label
  Bytes = 1505
End_Object
End
