Object = IsisCube
  Object = Core
    StartByte = 60990
    Format = BandSequential
    Group = Dimensions
      Samples = 6087
      Lines = 7543
      Bands = 1
    End_Group
    Group = Pixels
      Type = UnsignedByte
      ByteOrder = Lsb
      Base = 0.0
      Multiplier = 1.0
    End_Group
    ^Core = D21_035237_2021_XN_22N022W_6m_ORTHO.tif
  End_Object
  Group = Mapping
    ProjectionName = Equirectangular
    CenterLongitude = 180
    TargetName = Mars
    EquatorialRadius = 3396190
    PolarRadius = 3376200
    LatitudeType = Planetocentric
    LongitudeDirection = PositiveEast
    LongitudeDomain = 360
    MinimumLatitude = 21.5410225387870007
    MaximumLatitude = 22.3116719248510016
    MinimumLongitude = 337.540954790000001
    MaximumLongitude = 338.162837120000006
    UpperLeftCornerX = 9338187.88370900042
    UpperLeftCornerY = 1322521.0452564999
    PixelResolution = 6.05613707147050029
    Scale = 9787.54226064999966
    CenterLatitude = 0
  End_Group
  Group = AlphaCube
    AlphaSamples = 5697
    AlphaLines = 7607
    AlphaStartingSample = 0.5
    AlphaStartingLine = 0.5
    AlphaEndingSample = 5697.5
    AlphaEndingLine = 7607.5
    BetaSamples = 5640
    BetaLines = 7607
  End_Group
End_Object
Object = Label
  Bytes = 1500
End_Object
End
