Object = IsisCube
  Object = Core
    StartByte = 18776
    Format = BandSequential
    Group = Dimensions
      Samples = 1827
      Lines = 2263
      Bands = 1
    End_Group
    Group = Pixels
      Type = Real
      ByteOrder = Lsb
      Base = 0.0
      Multiplier = 1.0
    End_Group
    ^Core = D21_035237_2021_F01_036358_2020_20m_DTM.tif
  End_Object
  Group = Mapping
    ProjectionName = Equirectangular
    CenterLongitude = 180
    TargetName = Mars
    EquatorialRadius = 3396190
    PolarRadius = 3376200
    LatitudeType = Planetocentric
    LongitudeDirection = PositiveEast
    LongitudeDomain = 360
    MinimumLatitude = 21.5410562975269997
    MaximumLatitude = 22.3116719248510016
    MinimumLongitude = 337.540954790000001
    MaximumLongitude = 338.162800740000023
    UpperLeftCornerX = 9338179.80887549929
    UpperLeftCornerY = 1322519.02654640004
    PixelResolution = 20.1871235716029993
    Scale = 2936.26267818999986
    CenterLatitude = 0
  End_Group
  Group = AlphaCube
    AlphaSamples = 1709
    AlphaLines = 2282
    AlphaStartingSample = 0.5
    AlphaStartingLine = 0.5
    AlphaEndingSample = 1709.5
    AlphaEndingLine = 2282.5
    BetaSamples = 1692
    BetaLines = 2282
  End_Group
End_Object
Object = Label
  Bytes = 1497
End_Object
End
