PDS_VERSION_ID = PDS3
DD_VERSION_ID = PDSCAT1R100
LABEL_REVISION_NOTE = "2017-10-27, David P. Mayer (USGS), initial PDS3 label pointing to GeoTIFF;"
RECORD_TYPE = FIXED_LENGTH
RECORD_BYTES = 6256
TARGET_NAME = MARS
^IMAGE = ("B18_016575_1978_XN_17N282W_6m_ORTHO.tif", 90894 )
OBJECT = IMAGE
  LINES = 11281
  LINE_SAMPLES = 6256
  SAMPLE_BITS = 8
  SAMPLE_TYPE = LSB_UNSIGNED_INTEGER
  BANDS = 1
  BAND_STORAGE_TYPE = BAND_SEQUENTIAL
  SCALING_FACTOR = 1.0
  OFFSET = 0.0
END_OBJECT = IMAGE
OBJECT = IMAGE_MAP_PROJECTION
  MAP_PROJECTION_TYPE = EQUIRECTANGULAR
  A_AXIS_RADIUS = 3396.19
  B_AXIS_RADIUS = 3396.19
  C_AXIS_RADIUS = 3376.2
  FIRST_STANDARD_PARALLEL = N/A
  SECOND_STANDARD_PARALLEL = N/A
  POSITIVE_LONGITUDE_DIRECTION = EAST
  CENTER_LATITUDE = 0
  CENTER_LONGITUDE = 180
  REFERENCE_LATITUDE = N/A
  REFERENCE_LONGITUDE = N/A
  LINE_FIRST_PIXEL = 1
  LINE_LAST_PIXEL = 11281
  SAMPLE_FIRST_PIXEL = 1
  SAMPLE_LAST_PIXEL = 6256
  MAP_PROJECTION_ROTATION = 0.0
  MAP_RESOLUTION = 9779.39282012
  MAP_SCALE = 6.0611838192403
  MAXIMUM_LATITUDE = 18.237593846387
  MINIMUM_LATITUDE = 17.084038152168
  EASTERNMOST_LONGITUDE = 77.57859578
  WESTERNMOST_LONGITUDE = 76.93896585
  LINE_PROJECTION_OFFSET = 178352.50000000576
  SAMPLE_PROJECTION_OFFSET = 1007874.4999999972
  COORDINATE_SYSTEM_TYPE = "BODY-FIXED ROTATING"
  COORDINATE_SYSTEM_NAME = PLANETOCENTRIC
  PROJECTION_LATITUDE_TYPE = PLANETOCENTRIC
END_OBJECT = IMAGE_MAP_PROJECTION
END
