Object = IsisCube
  Object = Core
    StartByte = 27752
    Format = BandSequential
    Group = Dimensions
      Samples = 1877
      Lines = 3385
      Bands = 1
    End_Group
    Group = Pixels
      Type = Real
      ByteOrder = Lsb
      Base = 0.0
      Multiplier = 1.0
    End_Group
    ^Core = B18_016575_1978_B17_016219_1978_20m_DTM.tif
  End_Object
  Group = Mapping
    ProjectionName = Equirectangular
    CenterLongitude = 180
    TargetName = Mars
    EquatorialRadius = 3396190
    PolarRadius = 3376200
    LatitudeType = Planetocentric
    LongitudeDirection = PositiveEast
    LongitudeDomain = 360
    MinimumLatitude = 17.0840381521679987
    MaximumLatitude = 18.237593846387
    MinimumLongitude = 76.9389658500000024
    MaximumLongitude = 77.5785603500000036
    UpperLeftCornerX = -6108925.74380240031
    UpperLeftCornerY = 1081032.33810979989
    PixelResolution = 20.2039460641760016
    Scale = 2933.81784603000006
    CenterLatitude = 0
  End_Group
  Group = AlphaCube
    AlphaSamples = 1805
    AlphaLines = 3417
    AlphaStartingSample = 0.5
    AlphaStartingLine = 0.5
    AlphaEndingSample = 1805.5
    AlphaEndingLine = 3417.5
    BetaSamples = 1786
    BetaLines = 3417
  End_Group
End_Object
Object = Label
  Bytes = 1494
End_Object
End
