Object = IsisCube
  Object = Core
    StartByte = 172610
    ^Core = JEZ_hirise_soc_006_DTM_MOLAtopography_DeltaGeoid_1m_Eqc_latTs0- _lon0_blend40.tif
    Format = BandSequential
    Group = Dimensions
      Samples = 21400
      Lines = 21488
      Bands = 1
    End_Group
    Group = Pixels
      Type = Real
      ByteOrder = Lsb
      Base = 0.0
      Multiplier = 1.0
    End_Group
  End_Object
  Group = Mapping
    TargetName = Mars
    EquatorialRadius = 3396190.0
    PolarRadius = 3396190.0
    LatitudeType = Planetocentric
    LongitudeDirection = PositiveEast
    LongitudeDomain = 180
    MinimumLatitude = 18.3067994496865651
    MinimumLongitude = 77.2229330769714153
    MaximumLatitude = 18.6693150068777456
    MaximumLongitude = 77.5839640209350847
    ProjectionName = Equirectangular
    CenterLongitude = 0.0
    CenterLatitude = 0.0
    CenterLatitudeRadius = 3396190.0
    UpperLeftCornerX = 4577366.0
    UpperLeftCornerY = 1106618.0
    PixelResolution = 1.0
    Scale = 59274.6975233062185
  End_Group
End_Object
Object = Label
  Bytes = 1502
End_Object
Object = History
  Name = IsisCube
  StartByte = 1
  Bytes = 517
  ^History = JEZ_hirise_soc_006_DTM_MOLAtopography_DeltaGeoid_1m_Eqc_latTs0_l- on0_blend40.History.IsisCube
End_Object
End
